Workbook

Sheet ①説明
B6: 平成27年（2015年）産業連関表による経済波及効果 簡易計算ツール （統合大分類（37部門） Ver.1）
B8: 「経済波及効果」という言葉は、新聞やテレビでしばしば目にされていると思います。 でも、実際に波及効果分析を行おうとすると、数学的な知識も必要とされるなど、なかなかなじみにくいものとなっています。 そこで、ここでは、産業連関表に親しんでいただくため、波及効果の計算例が求められる簡易ツールを作成しました。
B9: 【利用方法】
B10: 1 | C10: シート「金額入力及び結果」の「新規需要額」欄に、新たに発生すると考えられる需要額を部門ごとに入力（単位：百万円）してください。そうすると、「計算結果」欄に、部門ごとの波及効果額が表示されます。
B11: 2 | C11: 計算過程については、シート「計算の流れ」に表示されます。その他のシートは測定に必要な係数が入力されています。
B12: 【留意事項】
B13: 1 | C13: 産業連関分析には、いくつかの前提条件（シート「前提」を参照）がありますので、得られる結果は実際の波及効果とは異なります。 産業連関表を使った分析事例として活用してください。
B14: 2 | C14: このツールによる分析結果は一つの計算例であり、その結果を国が保証するものではありません。分析する方の責任において利用してください。
B15: 3 | C15: 分析方法の見直しやデータの更新等により、利用者の皆様にあらかじめ通知することなく、内容を変更することがあります。（変更した場合はバージョンナンバーを更新します。）

Sheet ②前提
B1: ＜産業連関分析を行う際の主な前提条件＞
B2: ① | C2: 企業の生産能力に限界がなく、あらゆる需要にこたえられるものとします。
B3: ② | C3: 財・サービスの生産に必要な原材料等の費用構成（投入構造）は、短期的には変化せず「一定」であると仮定します。
B4: ③ | C4: 各部門が使用する投入量は、その部門の生産量に比例します。 （生産水準が２倍になれば、使用される原材料等の投入量も２倍になる。つまり、「規模の経済性」はないものと仮定します。）
B5: ④ | C5: 生産波及は、途中段階で中断しないものとします。 （新規需要の増加には全て生産増で対応し、在庫取り崩し等による波及の中断はないものとします。）。
B6: ⑤ | C6: 各部門が生産活動を個別に行った効果の和は、それらの部門が同時に行ったときの総効果に等しいものとします。 （例えば、ある産業活動によって発生した公害が他の産業にもたらすﾏｲﾅｽの影響は存在しないなど、各産業の相互干渉がないものとします。）

Sheet ③金額入力及び結果
A2: ここに、部門ごとの新規需要額を入れると、右側に波及効果額が表示されます。 | F2: 計算結果
D3: ①
C4: 部門の例示 | D4: 新規需要額 （単位：百万円） | F4: 波及効果
A5: 01 | B5: 農林漁業 | C5: 米、野菜、畜産、漁業 | D5: 0 | F5: =④計算の流れ!E5 -> 285.05428 | G5: 01
A6: 06 | B6: 鉱業 | C6: 石油、原油、天然ガス | D6: 0 | F6: =④計算の流れ!E6 -> 1.0767739 | G6: 06
A7: 11 | B7: 飲食料品 | C7: 食肉、精米、パン類、冷凍食品、酒類 | D7: 1600 | F7: =④計算の流れ!E7 -> 1592.9865 | G7: 11
A8: 15 | B8: 繊維製品 | C8: 衣服、じゅうたん、帽子、寝具 | D8: 0 | F8: =④計算の流れ!E8 -> 2.0573494 | G8: 15
A9: 16 | B9: パルプ・紙・木製品 | C9: 木材、家具、紙、段ボール箱 | D9: 0 | F9: =④計算の流れ!E9 -> 41.775769 | G9: 16
A10: 20 | B10: 化学製品 | C10: 化学肥料、医薬品、化粧品、洗剤 | D10: 0 | F10: =④計算の流れ!E10 -> 42.501928 | G10: 20
A11: 21 | B11: 石油・石炭製品 | C11: ガソリン、灯油、LPG、コークス | D11: 0 | F11: =④計算の流れ!E11 -> 22.877588 | G11: 21
A12: 22 | B12: プラスチック・ゴム製品 | C12: プラスチック管、タイヤ、チューブ | D12: 0 | F12: =④計算の流れ!E12 -> 39.684693 | G12: 22
A13: 25 | B13: 窯業・土石製品 | C13: ガラス、セメント、陶磁器 | D13: 0 | F13: =④計算の流れ!E13 -> 6.0706552 | G13: 25
A14: 26 | B14: 鉄鋼 | C14: 鋼板、鋼管 | D14: 0 | F14: =④計算の流れ!E14 -> 12.310648 | G14: 26
A15: 27 | B15: 非鉄金属 | C15: 銅、アルミニウム、電線、ケーブル | D15: 0 | F15: =④計算の流れ!E15 -> 4.3185719 | G15: 27
A16: 28 | B16: 金属製品 | C16: 鉄骨、シャッター、ボルト、ドラム缶、刃物 | D16: 0 | F16: =④計算の流れ!E16 -> 21.626467 | G16: 28
... A40: 68 | B40: 事務用品 | C40: 鉛筆、消しゴム、テープ、のり | D40: 0 | F40: =④計算の流れ!E40 -> 2.1779451 | G40: 68
A41: 69 | B41: 分類不明 | D41: 0 | F41: =④計算の流れ!E41 -> 13.736381 | G41: 69
B44: 合計 | D44: =SUM(D5:D41) -> 1600 | F44: =SUM(F5:F41) -> 2604.3659

Sheet 事例1
A1: 「2013年の楽天イーグルス優勝、宮城県にもたらす経済効果」のケースでやってみましょう。
A3: 「新規需要額」を、百万円単位で、入力する必要があります。
A5: では、まず新規需要額を推定するための、前提条件を決めておきましょう。
A7: ① 2013年、一年間で仙台クリネックススタジアムのホームゲームは「75試合」。
A9: ② 仙台クリネックススタジアムの収容人数は、「28,000人」。
A11: この条件で、以下のとおり推定します。
A13: ① 毎試合は満員にならないけど、優勝した年は概ね満員。
A15: ② 観客の8割は、一人平均2,000円の飲食。（ビール、ソフトドリンク、ポップコーン、等） →2,000円×28,000人×0.8×75試合＝3,360,000,000円＝3,360百万円
A17: ③ 観客の5割は、一人平均4,000円分、グッズを購入。→4,000円×28,000人×0.5×75試合＝4,200百万円
A19: ④ 観客は、一人平均1,000円分の交通費で、スタジアムを往復。→1,000円×28,000人×75試合＝2,100百万円
A21: これらの推定した数値を、「新規需要額」（黄色の枠）の、以下の行のところに入力します。
A23: ① 「飲食料品」→3,360
... A47: つまり、たった一種類の「飲食料品」の需要であっても、国内のほぼ全産業の売上高に貢献していることになります。

Sheet 事例2
A3: 人口 | B3: =SUM(B4:B13) -> 127650000 | D3: =SUM(D4:D13) -> 1 | E3: =SUM(E4:E13) -> 127650000
A4: 未就学児 | B4: 7330000 | C4: =B4/$B$3 -> 0.05742264 | D4: 0.05 | E4: =$B$3*D4 -> 6382500
A5: 小中高の生徒 | B5: 13300000 | C5: =B5/$B$3 -> 0.10419115 | D5: 0.1 | E5: =$B$3*D5 -> 12765000
A6: 大学生・院生・専門学校 | B6: 3640000 | C6: =B6/$B$3 -> 0.028515472 | D6: 0.03 | E6: =$B$3*D6 -> 3829500
A7: 就業者数（学生除く） | B7: 61010000 | C7: =B7/$B$3 -> 0.47794751 | D7: 0.48 | E7: =$B$3*D7 -> 61272000
A8: 失業者数 | B8: 2130000 | C8: =B8/$B$3 -> 0.016686251 | D8: 0.016 | E8: =$B$3*D8 -> 2042400
A9: 完全専業主婦 | B9: 5480000 | C9: =B9/$B$3 -> 0.042929886 | D9: 0.03 | E9: =$B$3*D9 -> 3829500
A10: 働いてない65歳以上 | B10: 26760000 | C10: =B10/$B$3 -> 0.20963572 | D10: 0.24 | E10: =$B$3*D10 -> 30636000
A11: ニート | B11: 760000 | C11: =B11/$B$3 -> 0.0059537799 | D11: 0.009 | E11: =$B$3*D11 -> 1148850
A12: 65歳未満の入院家無し服役 | B12: 300000 | C12: =B12/$B$3 -> 0.0023501763 | D12: 0.005 | E12: =$B$3*D12 -> 638250
A13: 不明 | B13: 6940000 | C13: =B13/$B$3 -> 0.054367411 | D13: 0.04 | E13: =$B$3*D13 -> 5106000

Sheet 予告編
A2: No | B2: 【タイトル】 世の中はどうなっていくのかというシナリオ | C2: 【現象】誰かが何かで困っている等 実体験(失敗・成功)や事例や情報 | D2: 【原因】困っている理由 課題や要因、悩み等 | E2: 【提案】こうしたら良い、こういうのがある 自分の考えや事例を基にした解決案など | F2: 【補足】シナリオに近い事例 提案がいかに凄いかを伝える | G2: 経済効果
A3: 1 | B3: 2023年 在宅ワーク×戦略コンサルタント 在宅ワーカーがコンサルタントの仕事を奪っていく
A4: 2 | B4: 2022年 データアナリストになることが就活の登竜門になる
A5: 3 | B5: 2022年 5G化によりスポーツとデータは融合する
A6: 4 | B6: 2021年 アプリの課金要素はコレクションの追求からこだわりの追求に変わる
A7: 5 | B7: 2023年 集合人格が形成される
A8: 6 | B8: 2021年 店舗×サードプレイス 承認欲求を満たしてくれる場所が増えていく
A9: 7 | B9: 2022年 海×旅行 水深100メートルの海中旅行が富裕層から人気を集める
A10: 8 | B10: 2021年 人工知能（AI）を搭載した認知症患者向け対話ロボットが商品化される
A11: 9 | B11: 2022年 思考を予測したマネジメントが個人レベルで流行を始める
A12: 10 | B12: 2030年 自立型AIが登場するが感受性は人間に遠く及ばない
A13: 11 | B13: 2024年 立教大学の全学生が在学中に海外体験をする
A14: 12 | B14: 2021年 国内の家電大手が、中国江蘇省宜興市に高齢者向けスマートタウン（800戸）を建設。分譲する
... A46: 44 | B46: 2025年 世界で27億人が水不足と食料不足に直面する

Sheet シナリオ編
A1: No | B1: １．シナリオを一言で言うと | C1: ２．世の中はどうなっていくの？ | D1: ３．どんなことが起きるの？ | E1: ４．何が大切になっていくの？ | F1: ２．具体的な状況は？ | G1: ３．どんな課題があるの？ | H1: ４．解決策は何？ | I1: リスク | J1: 対象者
A2: 1 | B2: 2021年 在宅コンサルタントが急激に増加していく | C2: 会社同士がチームになってプロジェクトを実行していく 複数の会社が連携して1つのプロジェクトを進める方法が主流になっていく | D2: 達成手段は問われない、自分らしさが武器になる 時間に縛られず自分のやり方で成果を出すことに集中できる環境になる | E2: あなたはゴールまでの距離と障害物は見えていますか？ 業務遂行計画書なるマップを描ける人材が重宝されるようになるかもしれない | F2: PMが企業課題に道筋を付けてユニット単位で課題解決をする手法が流行している | G2: 優秀な人財手配と作業の振分けに伴う適正価格を設定をどうするか | H2: 仕事経験とスキルのスコア化をして手配を楽にするサイトが必要かもしれない | I2: 知的財産権の流出 データの改竄 データ漏洩 データ消失 | J2: コンサルタント
A3: 2 | B3: 2022年 データアナリストになることが就活の登竜門になる | C3: 学生は店舗バイトから在宅で出来るデータ分析業務を請け負うようになっていく | D3: 学業の知識を実践して提案する機会が増えることで就活生が新卒コンサルレベルまで上がる | E3: 学生のアイディアが食い潰されない安心して意見を出し合えるコミュニティが必要になる | F3: ESには実績が記載されて面接は実力を証明する場に変わる | G3: 学生は独立独歩が出来る実力を持つがゆえに中小企業はますます人手不足に陥る | H3: どのような業務で何が学べるてどうなれるのかを伝えると学生の向上心に刺さると思われる
A4: 3 | B4: 2022年 5G化によりスポーツとデータは融合する | C4: 超高速化、超多数同時接続、超低遅延が実現されることでリアルタイムサービスが充実していく | D4: スポーツはリアルタイムでヒートマップ×各種確率が表示されて戦略が可視化されるようになる | E4: プレーの結果を見るだけでなく、プレーの要因や過程を追求できる目を養うことが必要になる | F4: 観戦×データ分析が当たり前になっていく | G4: データに意味付けをしなければ客層が分離してスポーツ人気の下落原因となってしまう | H4: スポーツのデータを解説するメディアがあれば新たなニーズを生んで全体の満足度を上げることが出来る
A5: 4 | B5: 2021年 アプリの課金要素はコレクションの追求からこだわりの追求に変わる | C5: ゲームバランスを崩す強化目的の課金から個性とこだわりを磨く課金に変わっていく | D5: 競争が平等になりファンが増えるためアプリの平均ライフサイクルは3年から5年にまで伸びる | E5: 課金額が落ちる代わりにサロン化するなどファンを喜ばせる長期的な仕掛けが必要になってくる | F5: eスポーツの影響で腕を競うことに平等性が求められて操作性が評価されてカスタマイズ性に課金が集まる | G5: 同ジャンルアプリの住み分けは困難になる | H5: 新しいゲームを開発するのではなく新しいジャンルを開発することでヒット作を作ることが出来る
A6: 5 | B6: 2023年 集合人格が形成される | C6: 人の人格はコミュニティが希求する人格を模倣するようになっていく | D6: 自分の意志だと思っていた発言や行動はコミュニティが生み出した人格によるものに変わる | E6: 集合人格と同化しないために、分自身の原体験を整理することが求められるかもしれない | F6: ネットから分かる消費者像や発言がパターン化されていく | G6: 消費者の声が本物なのか信憑性がなくなりネットを利用したマーケティングが信頼を失っていく | H6: 人のモノローグをすくい上げるようなマーケティングがあれば 良いかもしれない
A7: 6 | B7: 2021年 実店舗はサードプレイスの機能が求められる | C7: 実店舗はモノを売る場所から心を豊かにする場所に変わっていく | D7: 人々は心を落ち着かせるため、好奇心を刺激するために来店する | E7: ステータスも感じられてコミュニティ作りも活性化する会員型の憩いの場が喜ばれるかもしれない | F7: ネットから得られる刺激に飽きて、人と人が会うことが再注目を浴びる | G7: 出会い方が好印象にならなければ出会いは広がらない | H7: 同じ趣向を持つ人々がステータスを損なわずに出会える場所がほしい
A8: 7 | B8: 2022年 思考を予測したマネジメントが個人レベルで流行を始める | C8: 人に喜ばれる情報が増え続けた結果、ノウハウコレクターが増えていく | D8: 失敗しない方法を探求していると次第に実行そのものが億劫になる | E8: 初めから選択肢を与えて事前に想定される結果と影響を伝える予測型マネジメントが喜ばれるかもしれない | F8: 操られることを見守られていると錯覚するほどに疑わず受け入れる性格を持った人々が増えていく | G8: 与えられた課題の解決能力は高いけど自ら問いを作れないことが問題 | H8: 答えのないものを想像して失敗が出来る環境に身を置く。そう、未来マップをやることです
A9: 8 | B9: 2030年 自立型AIが登場するが感受性は人間に遠く及ばない | C9: マニュアルや型の決まった仕事はAIによって最短最速最適化されていく | D9: 創造するスキルを身に着けるか整備士になるかで二極化する | E9: 人を喜ばせる仕掛けや人を想う気持ちが新しいビジネスチャンスになる | F9: 労働力はスコア化されてスキルの応用表現力が求められるようになっていく | G9: 魅せられない説明できないスキルは評価されなくなる | H9: スキルのブランディングを上げる塾が必要かもしれない
A10: 9 | B10: 2024年 立教大学の全学生が在学中に海外体験をする | C10: 学生は海外で学んだ光景を基に新たな提案が出来る人材になっていく | D10: 現場の実践知と学問の融合により、起業家が爆発的に増える | E10: 学生のアウトプットを価値あるものに昇華できる仕組み作りが必要かもしれない | F10: 地方地域の小さい成功を大きく仕組み化して還元することが注目される | G10: 実現するために乗り越えるべきハードルが多すぎて宝の持ち腐れになってしまうかもしれない | H10: 大学と企業が早くから手を組んで、大学越えた学生同士の語らいの場を作るといいかも
A11: 10 | B11: 2022年 きれいな海を水深100メートルの深さで楽しむ海中旅行サービスがはじまる | C11: 「グラン・ブルー」と呼ばれる水深100mの世界を見れる日がやってくる | D11: 謎の海中生物を研究することで生命の神秘、起源を探れる可能性が出てくる | E11: 既存研究分野の整理とこれから続々生まれる研究成果の過不足ない統合が求められる | F11: 造られた世界ではない、大自然を堪能できる新たなデートスポットが生まれる | G11: 素晴らしい景色を見せるだけのデートは一過性の感情しか生み出さない | H11: より喜ばれるためには、好奇心をくすぐる質問力を養うといいかもしれない
A12: 11 | B12: 2021年 人工知能（AI）を搭載した認知症患者向け対話ロボットが商品化する | C12: 人手不足の原因は激務と給料にあるという介護職がより良い環境になっていく | D12: 職員の業務負担が和らげば心に余裕が生まれて、より熱心で親身な対応が継続しやすくなる | E12: 運営がロボットと人の労働バランス見直して職員の士気と満足度が上がる仕組みを作っていくことが大切になる | F12: もしスムーズに導入が進めば介護現場の業務量が軽減されていく | G12: 導入に際して、親族からある種の人権問題、道徳的反対が起きるかもしれない | H12: 一歩進んで、好きな時にビデオカメラ、音声通話に切り替えられれば納得されやすいかも
A13: 12 | B13: 2021年 国内の家電大手が、中国江蘇省宜興市に高齢者向けスマートタウン（800戸）を建設。分譲する | C13: ユニバーサルデザインと5Gの融合が脚光を浴びて家庭にある家具家電も遅れて刷新されていく | D13: 住みやすさと高齢者隔離について大きな論争が生まれる | E13: そこで誰が何を残したのか、街の移り変わりを風情と捉えることができる装置、媒体が求められる | F13: IoTを活かしたバリアフリータウンが建設されて高齢者にやさしい街が開発されていく | G13: スマートタウンの需要が増えれば地価が上がるため、老後貧富の格差が浮き彫りになる | H13: 官民一体で地域をデザインすることで負担を抑える仕組みを構築していきたい
A14: 13 | B14: 2030年 うつ病が世界1位の疾病になる | C14: うつ病の原因の大半は人間不信によるものになっていく | D14: 人間不信になればなるほど自分の価値観を相手に押し付けて一時的な優越感を得ようとする | E14: 自分の分かる言葉ではなく相手が分かる言葉でコミュニケーションを取ることが大切になる | F14: オンラインが普及すればするほど本音が見えず悩みは深くなっていく | G14: オンラインコミュニケーションが人間不信を招きうつ病を増やす | H14: 忖度のない納得が共有できる仕組みやサインが求められている
... A29: 28 | B29: 2021年 国内主要9都市のホテル客室数が24％（8万室）増加し、すべての都市で供給過剰になる（従来予測は2020年に東京で3500室、福岡で1400室の不足） | C29: 宿泊費の長期滞在プランや倉庫代わりとなるレンタルボックス機能に切り替わっていく | D29: 宿泊者による簡易的な配達業務サービスが提供されるなどホテル業はシェアリングサービス化する | E29: ホテルに滞在する対象と立地を利用したソフト面を強化するサービスを立案すること | F29: 家を持たないホテルステイ者やリモートワーク者の滞在が増えていく | G29: 収入源が限られる人や人との出会いが少なくなる人が増える | H29: 地域活性化しつつ収入の柱を増やせるようなシェアリングサービスを立案すること

Sheet 提案編
A2: No | B2: 提案 | C2: 課題と解決策 | D2: 方法 | E2: 価値・インパクト | F2: 経済効果
A3: 1 | B3: =予告編!E3 -> 0
A4: 2 | B4: =予告編!E4 -> 0
A5: 3 | B5: =予告編!E5 -> 0
A6: 4 | B6: =予告編!E6 -> 0
A7: 5 | B7: =予告編!E7 -> 0
A8: 6 | B8: =予告編!E8 -> 0
A9: 7 | B9: =予告編!E9 -> 0
A10: 8 | B10: =予告編!E10 -> 0
A11: 9 | B11: =予告編!E11 -> 0
A12: 10 | B12: =予告編!E12 -> 0
A13: 11 | B13: =予告編!E13 -> 0
A14: 12 | B14: =予告編!E14 -> 0
... A46: 44 | B46: =予告編!E46 -> 0

Sheet 経営課題解決相関図
C1: ヒト | J1: モノ | Q1: 情報資産 | S1: 情報受信 | U1: 情報発信
C2: 人を 増やしたい | D2: 離職率を 下げたい | E2: 人を 育てたい | F2: 人件費を 抑えたい | G2: 業務量を 減らしたい | H2: 人間関係を 円滑にしたい | I2: ノウハウを 持ちたい | J2: ターゲットを 増やしたい | K2: 供給提供量を 安定させたい | L2: 利益率を 上げたい | M2: 継続率を 上げたい | N2: 顧客満足度を 上げたい | O2: 他社と差別化を 図りたい | P2: 提案の幅を 広げたい | Q2: 内部流出の リスクがある | R2: 外部流出の リスクがある | S2: 顧客ニーズを 把握したい | T2: 業界の動きを 把握したい | U2: 伝え方魅せ方の マンネリ化 | V2: IRによる 反響を増やしたい | W2: CSRによる 反響を増やしたい
A3: ヒト | B3: 集客率を上げる | C3: 対象ニーズの把握
B4: 定着率を上げる | D4: 従業員満足度の向上
B5: 教育体制を充実させる | E5: 研修
B6: 働き方改革の推進 | F6: 在宅ワーク
B7: 業務量を算出する | G7: 業務の切り出し
B8: コミュニケーション の強化 | H8: 文化の統一
B9: ノウハウを残す 仕組み化 | I9: 業務のマニュアル化
A10: モノ | B10: 潜在顧客を増やす | J10: テスト マーケティング
B11: 需要のコントロール | K11: 見込み客の ストック
B12: 販売単価を上げる コストダウン | L12: ブランディングの 強化
B13: 更新率を上げる 信頼関係の構築 | M13: インハウス施策
B14: 期待値を裏切らない 最高品質の提供 | N14: 感動体験
B15: オリジナリティの創出 | O15: 他社比較
B16: 付加価値の創出 | P16: 追加商材の導入
A17: 情報 資産 | B17: 内部からの 流出リスクを抑える | Q17: 情報管理の 体制を見直す
B18: 外部からの 流出リスクを抑える | R18: セキュリティ 商材の導入
A19: 情報 受信 | B19: 顧客ニーズを掴む | S19: 消費者への マーケティング
B20: 業界の流れを読む | T20: 利害関係者への マーケティング
A21: 情報 発信 | B21: 新しい欲求刺激策 | U21: 成功体験の見直し
B22: IRの強化 | V22: 伝え方の見直し
B23: CSRの強化 | W23: 立場の見直し

Sheet Sheet1
A3: b | B3: c
A4: ■ 性別
A5: 男性 | B5: 1
A6: 女性 | B6: 2
A7: 言いたくない | B7: 3
A9: ■ 年齢
A10: 幼児 | B10: 1
A11: 小学生 | B11: 2
A12: 中・高校生 | B12: 3
A13: 大学生 | B13: 4
A14: 社会人 | B14: 5
A15: 高齢者 | B15: 6
A17: 幼児 | B17: 1
A18: 小学生 | B18: 2
A19: 中学生 | B19: 3
A20: 高校生 | B20: 4
A21: 大学生・大学院 | B21: 5
A22: 社会人 | B22: 6
A23: 高齢者 | B23: 7
A25: 【20単位】
A26: 20才未満 | B26: 1
A27: 20～39才 | B27: 2
A28: 40～59才 | B28: 3
A29: 60～79才 | B29: 4
A30: 80～99才 | B30: 5
A31: 100才以上 | B31: 6
A33: 【10単位】
A34: 10才未満 | B34: 1
A35: 10才代 | B35: 2
A36: 20才代 | B36: 3
A37: 30才代 | B37: 4
A38: 40才代 | B38: 5
A39: 50才代 | B39: 6
A40: 60才代 | B40: 7
A41: 70才代 | B41: 8
A42: 80才以上 | B42: 9
A44: 【5単位】
A45: 10才未満 | B45: 1
A46: 10～14才 | B46: 2
A47: 15～19才 | B47: 3
...

Sheet toCターゲット
A3: ■ 性別
A4: 男性 | B4: 1
A5: 女性 | B5: 2
A6: 言いたくない | B6: 3
A8: ■年齢
A9: 幼児 | B9: 1
A10: 小学生 | B10: 2
A11: 中学生 | B11: 3
A12: 高校生 | B12: 4
A13: 大学生・大学院 | B13: 5
A14: 社会人 | B14: 6
A15: 高齢者 | B15: 7
A17: 【20単位】
A18: 20才未満 | B18: 1
A19: 20～39才 | B19: 2
A20: 40～59才 | B20: 3
A21: 60～79才 | B21: 4
A22: 80～99才 | B22: 5
A23: 100才以上 | B23: 6
A25: ■最終学歴
A26: 中学校 | B26: 1
A27: 高等学校 | B27: 2
A28: 短期大学 | B28: 3
A29: 四年制大学 | B29: 4
A30: 大学院 | B30: 5
A32: ■職業
A33: 会社員（正社員） | B33: 1
A34: 会社員（契約社員） | B34: 2
A35: 公務員 | B35: 3
A36: 自営業・自由業 | B36: 4
A37: 会社役員・経営者 | B37: 5
A38: パート・アルバイト | B38: 6
A39: 学生 | B39: 7
A40: 専業主婦（夫） | B40: 8
A41: 無職 | B41: 9
A43: ■住居

Sheet 社会課題一覧
A1: No | B1: 社会課題 | C1: 説明
A2: 1 | B2: 副作用・重症化のない社会を実現する | C2: 副作用や重症化を解決すると、患者自身の苦しみとともに、高額な医療費や治療の長期化など経済的損失も解消することが…
A3: 2 | B3: 命を救う救命・救急医療を実現する | C3: 救命・救急医療の課題を解決することで、年々増加する救急医療の現場患者の命を救うことができます。 日本国…
A4: 3 | B4: 結核(三大感染病）のない社会を実現する | C4: 結核の解決は、年間150万人の患者の命を救います。 結核は、患者の咳、くしゃみなどの日常的な場面から感…
A5: 4 | B5: マラリア(三大感染病）のない社会を実現する | C5: マラリアの解決は、年間約40万人の命を救います。 マラリアとは蚊を媒介して発生する感染症で、40度近く…
A6: 5 | B6: HIV(三大感染病）のない社会を実現する | C6: HIVウイルスの特効薬が開発されれば、年間約100万人の命が助かり、感染者約3,000万人以上も服薬生活を終え…
A7: 6 | B7: 生活習慣病のない社会を実現する | C7: 世界で毎日命を落とす人は、約15万人います。 このうち半数以上が、予防法や治療法が確立されている疾患で亡くな…
A8: 7 | B8: 依存症・中毒のない社会を実現する | C8: ニコチンやアルコールなどの依存症・中毒のない社会を実現すると、健康被害だけでなく事件や事故の防止にもつながりま…
A9: 8 | B9: 原因不明の難病のない社会を実現する | C9: 難病・特定疾患は、日本国内でも300、全世界では2,000以上存在します。 これらの症状の多くは、治療法…
A10: 9 | B10: 心筋梗塞・心疾患（５大疾病）のない社会を実現する | C10: 日本国内において、心筋梗塞によって命を落とす人は年間約4万人、心疾患全体では年間20万人と言われています。 …
A11: 10 | B11: 脳卒中（５大疾病）のない社会を実現する | C11: 長年、脳卒中・脳梗塞は死亡原因の上位にランクインしています。 たとえ一命を取りとめても、麻痺や言語障害…
A12: 11 | B12: 科学・研究技術が活かされる世界を実現する | C12: 活版印刷、蒸気機関、電気、コンピューター、インターネット、ゲノム解析。 科学・研究成果が活かされる社会の実現…
A13: 12 | B13: 人身売買のない社会を実現する | C13: 人身売買のない社会を実現することで、性的搾取や強制労働の被害にあう人を救うことにつながります。 途上国や…
... A101: 100 | B101: 飢えや栄養不足のない社会を実現する | C101: 世界の9人に1人、約8億人はWFP調べによる「健康で活動的な生活を送るために必要、かつ十分な食糧を得られてい…

Sheet リスク一覧
A2: 大項目 | B2: 中項目
A3: 災害・事故等のリスク | B3: 災害・事故
A4: 災害・事故等のリスク | B4: 台風・高潮
A5: 災害・事故等のリスク | B5: 水災・洪水
A6: 災害・事故等のリスク | B6: 竜巻
A7: 災害・事故等のリスク | B7: 地震
A8: 災害・事故等のリスク | B8: 津波
A9: 災害・事故等のリスク | B9: 噴火
A10: 災害・事故等のリスク | B10: 落雷
A11: 災害・事故等のリスク | B11: 豪雪
A12: 災害・事故等のリスク | B12: 天候不良・異常気象
A13: 災害・事故等のリスク | B13: 火災・爆発
... A99: リスクの影響先 | B99: 行政との関係性

Sheet 財務
A3: （単位：円）
D4: 201804
D5: 実績
C6: 予測ロジックなど | D6: 44
A7: 80105 | B7: 商品売上高 | D7: 4341821000
A8: 80110 | B8: 売上値引 | D8: 5519000
B9: 売上値引率 | D9: =D8/D7 -> 0.0012711256
B10: 純売上高 | D10: =D7-D8 -> 4336302000
A11: 81100 | B11: 期首商品棚卸高 | D11: 12978307000
A12: 81105 | B12: 期首滞留商品評価引当棚卸高 | D12: -91587000
A13: 81106 | B13: 期首Ｓ物商品評価引当棚卸高 | D13: -6231000
B14: 期首商品棚卸高計 | D14: =SUM(D11:D13) -> 12880489000
A15: 81205 | B15: 商品仕入高 | D15: 2349479000
A16: 81207 | B16: 仕入値引 | D16: 0
A17: 81210 | B17: 店間移動仕入高 | D17: 2000
A18: 81321 | B18: 課税仕入諸掛 | D18: 342000
A19: 81322 | B19: 非課税仕入諸掛 | D19: 5886000
A20: 81323 | B20: 他勘定振替高 | D20: 0
A21: 81317 | B21: 加工賃 | D21: 96089000
A22: 81319 | B22: 為替差損益 | D22: 0
B23: 商品仕入高計 | D23: =SUM(D15:D22) -> 2451798000
A24: 82959 | B24: 期末商品棚卸高 | D24: 13736856000
A25: 82960 | B25: 期末滞留商品評価引当棚卸高 | D25: -79096000
A26: 82961 | B26: 期末Ｓ物商品評価引当棚卸高 | D26: -6111000
B27: 期末商品棚卸高計 | D27: =SUM(D24:D26) -> 13651649000
B28: 売上原価 | D28: =D14+D23-D27 -> 1680638000
B29: 売上総利益 | D29: =D10-D28 -> 2655664000
B30: 売上総利益率 | D30: =D29/D10 -> 0.61242598
B31: 販売一般管理費計 | D31: =D108 -> 2374521000
B32: 負担金計 | D32: =D112 -> 273436000
B33: 営業利益 | D33: =D29-D31-D32 -> 7707000
B34: 営業利益率 | D34: =D33/D10 -> 0.0017773209
B35: 負担金前営業利益 | D35: =D33+D32 -> 281143000
B36: 営業外収益計 | D36: =D125 -> 82622000
B37: 営業外費用計 | D37: =D140 -> 9138000
B38: 経常利益 | D38: =D33+D36-D37 -> 81191000
B39: 経常利益率 | D39: =D38/D10 -> 0.018723558
D41: 201804
D42: 実績
A43: 83138 | B43: 役員報酬 | D43: 3834000
...

Sheet ターゲット相関図
A1: ターゲット相関図 | C1: 株式会社○○ | G1: 御中
G3: ヒト | N3: モノ | U3: 情報資産 | W3: 情報受信 | Y3: 情報発信
A4: No | B4: 業界名 | C4: 景気動向指数 クォーター平均 | D4: 43191 | E4: 43221 | F4: 43252 | G4: 人が 集まらない | H4: 離職率が 高い | I4: 人が 育たない | J4: 人件費が 高い | K4: 業務量が 多い | L4: 人間関係が 悪い | M4: ノウハウが 残っていない | N4: ターゲットが 少ない | O4: 供給が 不安定 | P4: 利益率が 低い | Q4: 継続率が 低い | R4: 顧客満足度が 低い | S4: 差別化が 出来ていない | T4: 提案の幅が 狭い | U4: 内部流出の リスクがある | V4: 外部流出の リスクがある | W4: 顧客ニーズが 読めない | X4: 業界の動きが 読めない | Y4: アイディアの マンネリ化 | Z4: IRが 弱い | AA4: CSRが 弱い
A5: 1 | B5: 全業界平均数値 | C5: =SUM(C6:C60)/54 -> 0.48017901 | D5: =SUM(D6:D60)/54 -> 0.48727778 | E5: =SUM(E6:E60)/54 -> 0.47864815 | F5: =SUM(F6:F60)/54 -> 0.47461111
A6: 2 | B6: 農林水産 | C6: =(D6+E6+F6)/3 -> 0.43666667 | D6: 0.435 | E6: 0.442 | F6: 0.433 | G6: ○ | H6: ○ | K6: ○ | M6: ○ | O6: ○ | P6: ○ | U6: ○ | V6: ○ | Z6: ○
A7: 3 | B7: 金融 | C7: =(D7+E7+F7)/3 -> 0.48133333 | D7: 0.494 | E7: 0.478 | F7: 0.472 | G7: ○ | P7: ○ | W7: ○ | X7: ○
A8: 4 | B8: 建設 | C8: =(D8+E8+F8)/3 -> 0.517 | D8: 0.514 | E8: 0.518 | F8: 0.519 | G8: ○ | H8: ○ | I8: ○ | K8: ○ | T8: ○ | Y8: ○
A9: 5 | B9: 不動産 | C9: =(D9+E9+F9)/3 -> 0.51 | D9: 0.509 | E9: 0.51 | F9: 0.511 | G9: ○ | K9: ○ | L9: ○ | O9: ○ | R9: ○ | S9: ○ | U9: ○ | V9: ○ | Y9: ○ | Z9: ○
A10: 6 | B10: 製造全体 | C10: =(D10+E10+F10)/3 -> 0.50733333 | D10: 0.51 | E10: 0.508 | F10: 0.504 | G10: ○ | O10: ○ | S10: ○ | Y10: ○ | AA10: ○
A11: 7 | B11: 飲食料品・飼料製造 | C11: =(D11+E11+F11)/3 -> 0.43166667 | D11: 0.429 | E11: 0.434 | F11: 0.432 | G11: ○ | H11: ○ | K11: ○ | P11: ○ | R11: ○
A12: 8 | B12: 繊維・繊維製品・服飾品製造 | C12: =(D12+E12+F12)/3 -> 0.42633333 | D12: 0.424 | E12: 0.427 | F12: 0.428 | G12: ○ | P12: ○ | W12: ○ | X12: ○ | Y12: ○
A13: 9 | B13: 建材・家具、窯業・土石製品製造 | C13: =(D13+E13+F13)/3 -> 0.458 | D13: 0.457 | E13: 0.458 | F13: 0.459 | G13: ○ | Q13: ○ | T13: ○ | X13: ○ | Y13: ○
A14: 10 | B14: パルプ・紙・紙加工品製造 | C14: =(D14+E14+F14)/3 -> 0.44866667 | D14: 0.463 | E14: 0.431 | F14: 0.452 | G14: ○ | H14: ○ | I14: ○ | L14: ○ | N14: ○
A15: 11 | B15: 出版・印刷 | C15: =(D15+E15+F15)/3 -> 0.354 | D15: 0.362 | E15: 0.363 | F15: 0.337 | G15: ○
A16: 12 | B16: 化学品製造 | C16: =(D16+E16+F16)/3 -> 0.519 | D16: 0.523 | E16: 0.518 | F16: 0.516 | G16: ○ | H16: ○ | K16: ○ | M16: ○ | O16: ○ | P16: ○ | U16: ○ | V16: ○ | Z16: ○
A17: 13 | B17: 鉄鋼・非鉄・鉱業 | C17: =(D17+E17+F17)/3 -> 0.535 | D17: 0.537 | E17: 0.535 | F17: 0.533 | G17: ○ | P17: ○ | W17: ○ | X17: ○
A18: 14 | B18: 機械製造 | C18: =(D18+E18+F18)/3 -> 0.606 | D18: 0.609 | E18: 0.606 | F18: 0.603 | G18: ○ | H18: ○ | I18: ○ | K18: ○ | T18: ○ | Y18: ○
A19: 15 | B19: 電気機械製造 | C19: =(D19+E19+F19)/3 -> 0.539 | D19: 0.549 | E19: 0.534 | F19: 0.534 | G19: ○ | K19: ○ | L19: ○ | O19: ○ | R19: ○ | S19: ○ | U19: ○ | V19: ○ | Y19: ○ | Z19: ○
A20: 16 | B20: 輸送用機械・器具製造 | C20: =(D20+E20+F20)/3 -> 0.57766667 | D20: 0.576 | E20: 0.584 | F20: 0.573 | G20: ○ | O20: ○ | S20: ○ | Y20: ○ | AA20: ○
A21: 17 | B21: 精密機械、医療機械・器具製造 | C21: =(D21+E21+F21)/3 -> 0.571 | D21: 0.575 | E21: 0.566 | F21: 0.572 | G21: ○ | H21: ○ | K21: ○ | P21: ○ | R21: ○
A22: 18 | B22: その他製造 | C22: =(D22+E22+F22)/3 -> 0.43333333 | D22: 0.432 | E22: 0.443 | F22: 0.425 | G22: ○ | P22: ○ | W22: ○ | X22: ○ | Y22: ○
A23: 19 | B23: 卸売全体 | C23: =(D23+E23+F23)/3 -> 0.46266667 | D23: 0.47 | E23: 0.461 | F23: 0.457 | G23: ○ | Q23: ○ | T23: ○ | X23: ○ | Y23: ○
A24: 20 | B24: 飲食料品卸売 | C24: =(D24+E24+F24)/3 -> 0.427 | D24: 0.429 | E24: 0.428 | F24: 0.424 | G24: ○ | H24: ○ | I24: ○ | L24: ○ | N24: ○
A25: 21 | B25: 繊維・繊維製品・服飾品卸売 | C25: =(D25+E25+F25)/3 -> 0.371 | D25: 0.372 | E25: 0.368 | F25: 0.373 | G25: ○
A26: 22 | B26: 建材・家具、窯業・土石製品卸売 | C26: =(D26+E26+F26)/3 -> 0.44233333 | D26: 0.45 | E26: 0.433 | F26: 0.444 | G26: ○
A27: 23 | B27: 紙類・文具・書籍卸売 | C27: =(D27+E27+F27)/3 -> 0.37233333 | D27: 0.38 | E27: 0.375 | F27: 0.362 | G27: ○
A28: 24 | B28: 化学品卸売 | C28: =(D28+E28+F28)/3 -> 0.48333333 | D28: 0.491 | E28: 0.491 | F28: 0.468 | G28: ○
A29: 25 | B29: 再生資源卸売 | C29: =(D29+E29+F29)/3 -> 0.489 | D29: 0.495 | E29: 0.466 | F29: 0.506 | G29: ○
A30: 26 | B30: 鉄鋼・非鉄・鉱業製品卸売 | C30: =(D30+E30+F30)/3 -> 0.48566667 | D30: 0.497 | E30: 0.482 | F30: 0.478 | G30: ○
A31: 27 | B31: 機械・器具卸売 | C31: =(D31+E31+F31)/3 -> 0.50566667 | D31: 0.511 | E31: 0.506 | F31: 0.5 | G31: ○
A32: 28 | B32: その他の卸売 | C32: =(D32+E32+F32)/3 -> 0.44033333 | D32: 0.454 | E32: 0.434 | F32: 0.433 | G32: ○
A33: 29 | B33: 小売全体 | C33: =(D33+E33+F33)/3 -> 0.43866667 | D33: 0.446 | E33: 0.435 | F33: 0.435 | G33: ○
A34: 30 | B34: 飲食料品小売 | C34: =(D34+E34+F34)/3 -> 0.461 | D34: 0.474 | E34: 0.457 | F34: 0.452 | G34: ○
A35: 31 | B35: 繊維・繊維製品・服飾品小売 | C35: =(D35+E35+F35)/3 -> 0.359 | D35: 0.389 | E35: 0.367 | F35: 0.321 | G35: ○
A36: 32 | B36: 医薬品・日用雑貨品小売 | C36: =(D36+E36+F36)/3 -> 0.44966667 | D36: 0.449 | E36: 0.471 | F36: 0.429 | G36: ○
... A61: 57 | B61: 格差（10業界別『その他』除く） | C61: =(D61+E61+F61)/3 -> 0.10033333 | D61: 0.093 | E61: 0.101 | F61: 0.107 | G61: ○

Sheet 業界一覧
A1: ターゲットリスト分解表
A2: No | B2: 大分類：12種類 | C2: 中分類：79種類 | D2: 小分類：560種類 | E2: 東京23区内件数 | F2: ○×△
A3: 1 | B3: BtoBビジネス | C3: アウトソーシング・代行サービス | D3: アウトソーシング業務請負
A4: 2 | B4: BtoBビジネス | C4: アウトソーシング・代行サービス | D4: クラウドワーク環境業務請負・在宅業務支援
A5: 3 | B5: BtoBビジネス | C5: アウトソーシング・代行サービス | D5: コールセンター・テレマーケティング
A6: 4 | B6: BtoBビジネス | C6: アウトソーシング・代行サービス | D6: データ入力・事務作業代行
A7: 5 | B7: BtoBビジネス | C7: アウトソーシング・代行サービス | D7: テープ起こし
A8: 6 | B8: BtoBビジネス | C8: アウトソーシング・代行サービス | D8: リネンサプライ
A9: 7 | B9: BtoBビジネス | C9: アウトソーシング・代行サービス | D9: 営業代行・販売代行
A10: 8 | B10: BtoBビジネス | C10: アウトソーシング・代行サービス | D10: 給食調理・配食
A11: 9 | B11: BtoBビジネス | C11: アウトソーシング・代行サービス | D11: 経理代行・記帳代行・決算代行・給与計算
A12: 10 | B12: BtoBビジネス | C12: アウトソーシング・代行サービス | D12: 人事採用業務代行
A13: 11 | B13: BtoBビジネス | C13: アウトソーシング・代行サービス | D13: 秘書代行・電話代行
A14: 12 | B14: BtoBビジネス | C14: アウトソーシング・代行サービス | D14: 福利厚生代行
... A562: 560 | B562: 公共機関・団体 | C562: 官公庁・自治体・各種団体 | D562: 都道府県機関

Sheet 2020年代
A1: No | B1: 時代 | C1: 分野 | D1: 未来内容
A2: 1 | B2: 2021 | C2: 医療 | D2: 福島県立医科大学が理学療法士、作業療法士などの保健医療従事者を養成する新施設を設置する（4月）
A3: 2 | B3: 2021 | C3: 医療 | D3: 神奈川県初の「こどもホスピス」が、横浜市金沢区に開設される
A4: 3 | B4: 2021 | C4: 医療 | D4: 紙巻たばこの税金が、この年までに1本あたり3円（20本入りで60円）増税になる（2018-21年）
A5: 4 | B5: 2021 | C5: 医療 | D5: いろいろな固形がんに対抗する免疫細胞「PRIME CAR-T細胞」の量産が可能になる（PRIME CAR-T=プライムカーティー）
A6: 5 | B6: 2021 | C6: 医療 | D6: 国内の化学大手が、米国テキサス州でバイオ医薬品の開発、製造を開始する（春以降。投資額は130億円）
A7: 6 | B7: 2021 | C7: 医療 | D7: 脳内にたまるアルツハイマー病の原因物質を血液検査で検出する技術が実用化する（2019-21年）
A8: 7 | B8: 2021 | C8: 医療 | D8: 熊本県北地域の中核病院「くまもと県北病院」が開院する（3月）
A9: 8 | B9: 2021 | C9: 医療 | D9: 腹膜透析に用いる人工透析用医療用具が、中国で1600億円市場に成長する（現状の8倍）
A10: 9 | B10: 2021 | C10: 医療 | D10: 統合失調症の発症メカニズムが明らかになり治療法が開発される
A11: 10 | B11: 2021 | C11: 医療 | D11: 3Dプリンターを使った人工乳房の製造販売がはじまる
A12: 11 | B12: 2021 | C12: 医療 | D12: 心臓の血管を再生する貼り薬が承認申請される
A13: 12 | B13: 2021 | C13: 医療 | D13: 高精度センサーで患者の転倒、転落の危険を検知して注意喚起するシステムが実用化する（2020-21年）
... A6896: 6895 | B6896: 2029 | C6896: 通信 | D6896: 距離100キロを超える都市間の量子暗号通信技術（特定用途）が実用化する（2023-29年）

Sheet 2030年代
A1: No | B1: 時代 | C1: 分野 | D1: 未来内容
A2: 1 | B2: 2030 | C2: 医療 | D2: 途上国若年層の発症が増え続ける脳卒中が、この年までに患者数約7000万人、死亡者数約1200万人に達する（2010年比でほぼ倍増）
A3: 2 | B3: 2030 | C3: 医療 | D3: 移植用iPS細胞の備蓄「iPS細胞ストック」を利用した再生医療体制が実現する
A4: 3 | B4: 2030 | C4: 医療 | D4: アジアの糖尿病人口が1億100万人に達する（世界全体の1/4）
A5: 4 | B5: 2030 | C5: 医療 | D5: 難病治療のためのiPS細胞による創薬が実現する
A6: 5 | B6: 2030 | C6: 医療 | D6: 皮内埋め込み型マイクロチップで最適なホルモンデリバリーを実現。排卵調節する不妊治療が実用化する（2020-30年）
A7: 6 | B7: 2030 | C7: 医療 | D7: 日本経団連の成長戦略が医療、介護分野で170万人の雇用を実現する
A8: 7 | B8: 2030 | C8: 医療 | D8: iPS細胞を利用した新しい生命科学がはじまる
A9: 8 | B9: 2030 | C9: 医療 | D9: 国連「持続可能な開発目標（SDGs）」37項目の4/5が未達成に終わる
A10: 9 | B10: 2030 | C10: 医療 | D10: バイオチップによる筋萎縮性側索硬化症（ALS）、クローン病の発病リスクの把握、治療が可能になる（2025-30年）
A11: 10 | B11: 2030 | C11: 医療 | D11: 再生不良性貧血、骨髄異形成症候群などの特発性造血障害を予防する技術が実用化する（2023-30年）
A12: 11 | B12: 2030 | C12: 医療 | D12: ほぼすべての単一遺伝性疾患の遺伝子治療法が実用化する（2025-30年）
A13: 12 | B13: 2030 | C13: 医療 | D13: 世界の5歳未満の子どもの死者数が、2002年比で半分に減少する
... A4632: 4631 | B4632: 2039 | C4632: 人口 | D4632: 日本人の死亡数がピークに達する

Sheet 2040年代
A1: No | B1: 時代 | C1: 分野 | D1: 未来内容
A2: 1 | B2: 2040 | C2: 医療 | D2: 胎児の生育が可能な人工子宮が実用化する（2030-40年）
A3: 2 | B3: 2040 | C3: 医療 | D3: 医療、介護などの社会保障給付費が、約190兆円（1.6倍）に膨らむ（2040年度）
A4: 3 | B4: 2040 | C4: 医療 | D4: 意識、社会性、創造性などの高次の精神機能における神経基盤の全容が解明される（2035-40年）
A5: 4 | B5: 2040 | C5: 医療 | D5: 世界の抗がん剤治療の需要が、2018年比で1.5倍（約1500万人）に増える（2018年は約980万人）
A6: 5 | B6: 2040 | C6: 医療 | D6: 事務職員を含めた医療、介護の職員数が1065万人に達し（242万人増）、全就業者の18.8％を占める（2040年度）
A7: 6 | B7: 2040 | C7: 医療 | D7: 情報通信技術（ICT）の利用が、事務職員を含めた医療、介護の職員数を935万人に抑える（対策なしなら1065万人。2040年度）
A8: 7 | B8: 2040 | C8: 医療 | D8: 介護の社会保障給付費が25.8兆円（2.4倍）に膨らむ（2018年度は10.7兆円。2040年度）
A9: 8 | B9: 2040 | C9: 医療 | D9: 医療、介護などの社会保障給付費が、国内総生産（GDP）の24％を占める（2018年度は21.5％。2040年度）
A10: 9 | B10: 2040 | C10: 医療 | D10: 医療の社会保障給付費が68.5兆円（1.7倍）に膨らむ（2018年度は39.2兆円。2040年度）
A11: 10 | B11: 2040 | C11: 医療 | D11: 医療福祉の従事者数が、全就業者数の約19％を占める（約1060万人。2018年は約12.5％で約823万人）
A12: 11 | B12: 2040 | C12: 医療 | D12: 医療福祉分野の担い手不足に取り組む政府が、この年までに国民の健康寿命を3年以上延ばす
A13: 12 | B13: 2040 | C13: 医療 | D13: 英国から喫煙者がいなくなる
... A1634: 1633 | B1634: 2049 | C1634: 人口 | D1634: ベトナムの人口が1億0870万人に達する

Sheet 2050年代
A1: No | B1: 時代 | C1: 分野 | D1: 未来内容
A2: 1 | B2: 2050 | C2: 医療 | D2: ほとんどのがんが、免疫療法で治療できるようになる
A3: 2 | B3: 2050 | C3: 医療 | D3: 日本の医療介護分野の労働力不足が、455万人に達する
A4: 3 | B4: 2050 | C4: 医療 | D4: スマートフォン、携帯音楽プレーヤーによる大音量の音楽が、世界の若者（12-35歳）の約半数（11億人）を難聴にする
A5: 4 | B5: 2050 | C5: 医療 | D5: 薬剤耐性菌による死者の数が、世界で1000万人に膨らむ
A6: 5 | B6: 2050 | C6: 医療 | D6: 世界の近視人口が約50億人に達する（2人に1人）
A7: 6 | B7: 2050 | C7: 医療 | D7: この年までに80歳未満のがん死亡者がいなくなる
A8: 7 | B8: 2050 | C8: 医療 | D8: 聴覚障害に苦しむ人が、世界全体で9億人に増加する（高齢化、薬の副作用などが背景。現状は推計約4億7000万人）
A9: 8 | B9: 2050 | C9: 医療 | D9: 世界の認知症患者数が1億5200万人に達する（現状は推計5000万人。毎年約1000万人が発症）
A10: 9 | B10: 2050 | C10: 医療 | D10: 世界の再生医療市場が38兆円の規模に成長する
A11: 10 | B11: 2050 | C11: 医療 | D11: この年まで中国で毎年100万人が抗生物質が効かない超強力細菌「スーパーバグ」の感染で死亡する
A12: 11 | B12: 2050 | C12: 医療 | D12: 中低所得国の認知症患者数が、世界全体の71％を占める
A13: 12 | B13: 2050 | C13: 医療 | D13: 薬剤耐性菌への感染で世界の国内総生産（GDP）が2.0-3.5％減少する
... A1679: 1678 | B1679: 2059 | C1679: 2059社会 | D1679: 韓国の国家債務が対国内総生産（GDP）比で200％を超える

Sheet 2060年代
A1: No | B1: 時代 | C1: 分野 | D1: 未来内容
A2: 1 | B2: 2060 | C2: 医療 | D2: 日本の介護費が18兆円を超え、40歳以上の負担が1人年間30万4000円に倍増する（2015年は13万2000円）
A3: 2 | B3: 2060 | C3: 医療 | D3: このころまで介護費用が増え続ける
A4: 3 | B4: 2060 | C4: 医療 | D4: 認知症高齢者の数が、国内で1154万人に達する（アルツハイマー型に関係する糖尿病が増えた場合）
A5: 4 | B5: 2060 | C5: 医療 | D5: たばこのニコチン含有量を削減した米国が、喫煙率を1.4％に抑える（現状の喫煙率は15％）
A6: 5 | B6: 2060 | C6: 医療 | D6: 国内の要介護者が800万人に倍増する
A7: 6 | B7: 2060 | C7: 医療 | D7: 介護費用と家族の負担（インフォーマルケアコスト）の合計（社会的費用）が、24兆2630億円に膨らむ
A8: 7 | B8: 2060 | C8: 医療 | D8: 国内の認知症患者数が、全人口の1割を超える
A9: 8 | B9: 2060 | C9: 環境 | D9: 地球温暖化の影響により、北海道の米（コメ）収穫量が13％増加する（全国平均は10％減少）
A10: 9 | B10: 2060 | C10: 環境 | D10: 地球温暖化の影響により、全国の米（コメ）収穫量が10％減少する（北海道は13％の増加）
A11: 10 | B11: 2060 | C11: 環境 | D11: イタリアの世界遺産ベネチアで、110センチ級の高潮が年間65回発生する（現状は年平均8.2回。1980年代は同2.6回）
A12: 11 | B12: 2060 | C12: 環境 | D12: 地球温暖化の影響により、鹿児島県南部長島町で生まれた温州ミカンの栽培適地が日本の西南地域から関東―中国地域に北上する
A13: 12 | B13: 2060 | C13: 環境 | D13: 地球温暖化の影響により、九州南部のミカン栽培が温州ミカンからデコポンに変わる
... A417: 416 | B417: 2069 | C417: 交通 | D417: 福岡市営地下鉄七隈線（天神南―橋本）が累積赤字を解消する（当初計画は2026年度）

Sheet 2070年代
A1: No | B1: 時代 | C1: 分野 | D1: 未来内容
A2: 1 | B2: 2070 | C2: 医療 | D2: 気候変動と人口増加の影響で、ラッサ熱の感染者が倍増する（40万6000人。現状は19万5000人）
A3: 2 | B3: 2070 | C3: 医療 | D3: 貧しい人々と豊かな人々で、受ける医療サービスの隔たりが広がる
A4: 3 | B4: 2070 | C4: 医療 | D4: 放射線影響研究所による被曝2世の臨床調査が終了する
A5: 4 | B5: 2070 | C5: 環境 | D5: このころオゾン層が1980年（破壊が進む前）の状態に回復する
A6: 5 | B6: 2070 | C6: 環境 | D6: 地球の気温上昇が3.4度に達し、大豆の収穫量がブラジルで最大80％、中国同60％、米国同40％減少する
A7: 6 | B7: 2070 | C7: 環境 | D7: 地球温暖化により、日本のコメの収穫が北海道で0.5トン増加。その他の28都道府県で1ヘクタールあたり0.1-0.9トン減収になる
A8: 7 | B8: 2070 | C8: 環境 | D8: 地球の気温上昇が3.4度に達し、トウモロコシの収穫量が中国で最大65％、米国同50％、ブラジル同40％減少する
A9: 8 | B9: 2070 | C9: 環境 | D9: 地球の気温上昇が1.9度にとどまり、大豆の収穫量がブラジルで最大各50％減少する
A10: 9 | B10: 2070 | C10: 環境 | D10: 地球の気温上昇が1.9度にとどまり、トウモロコシの収穫量がブラジルで最大各30％減少する
A11: 10 | B11: 2070 | C11: 環境 | D11: 世界の港湾都市を襲う暴風雨が、地球温暖化による海面の上昇で約4倍（1億5000万人）の被災者と10倍以上（35兆ドル）の被害を生む
A12: 11 | B12: 2070 | C12: 環境 | D12: 地球温暖化による海面の上昇で、東京を襲う100年に1度の暴風雨が1兆2000億ドルの被害をもたらす
A13: 12 | B13: 2070 | C13: 環境 | D13: 名古屋市、岐阜市、四日市市などで8月午後2時の平均気温が36度以上になる（2070年代）
... A100: 99 | B100: 2079 | C100: 資源 | D100: 英国のバークレー原発（旧型ガス炉）が廃炉を完了する（費用は1020億円）

Sheet 2080年代
A1: No | B1: 時代 | C1: 分野 | D1: 未来内容
A2: 1 | B2: 2080 | C2: 医療 | D2: ジカ熱、エボラ出血熱などの感染リスクが、10億人規模に拡大する（ワクチン需要の増加）
A3: 2 | B3: 2080 | C3: 環境 | D3: この年までに世界のトカゲの20％が絶滅する（地球温暖化よる気温の上昇が原因）
A4: 3 | B4: 2080 | C4: 環境 | D4: スイスの森がドイツトウヒ、ブナなどから他の種類に換わる（気温上昇は3.1-4.3度。在来種のカシワが有力候補）
A5: 4 | B5: 2080 | C5: 環境 | D5: 地球温暖化がもたらす気温上昇や干ばつにより、この年までに最大6億人のひとが栄養失調になる
A6: 5 | B6: 2080 | C6: 環境 | D6: 地球温暖化がもたらす降雨パターンの変化により、この年までに新たに18億人のひとが水不足（水ストレス）に見舞われる
A7: 6 | B7: 2080 | C7: 環境 | D7: 世界に生息するトカゲ（約4900種）の20％が絶滅する
A8: 7 | B8: 2080 | C8: 環境 | D8: 米国東部の夏の気温が、5.6度上昇する
A9: 8 | B9: 2080 | C9: 環境 | D9: 米国ワシントンDCのサクラが2月に開花する
A10: 9 | B10: 2080 | C10: 環境 | D10: 地球温暖化が進行し、動物の種の34％、植物の同57％が生息適地を半分以下に減らす
A11: 10 | B11: 2080 | C11: 環境 | D11: 気候変動の影響により、世界で新たに18億人の人が水不足に苦しむ
A12: 11 | B12: 2080 | C12: 環境 | D12: サハラ以南のアフリカで天水農業に適さない農地が3000万-6000万ヘクタールに拡大する
A13: 12 | B13: 2080 | C13: 環境 | D13: ボルネオ島のオランウータンが、生息適地の68-81％を失い、絶滅の危機に瀕する（プランテーションによる森林破壊）
... A52: 51 | B52: 2080 | C52: 人口 | D52: 「県長期人口ビジョン」に取り組む青森県が、約72万人で安定する（現状は約124万人）

Sheet map
A1: No | B1: 1 | C1: 2 | D1: 3 | E1: 4 | F1: 9 | G1: 4 | H1: 5 | I1: 6 | J1: 7 | K1: 10 | L1: 11 | M1: 12 | N1: 13 | O1: 14 | P1: 15 | Q1: 16 | R1: 17 | S1: 18 | T1: 19 | U1: 20 | V1: 21 | W1: 22 | X1: 23 | Y1: 24 | Z1: 25 | AA1: 26 | AB1: 27 | AC1: 28 | AD1: 29 | AE1: 30 | AF1: 31 | AG1: 32 | AH1: 33 | AI1: 34 | AJ1: 35 | AK1: 36 | AL1: 37 | AM1: 38 | AN1: 39 | AO1: 40 | AP1: 41 | AQ1: 42 | AR1: 43 | AS1: 44 | AT1: 45
A2: １．世の中はどうなっていくの？ | B2: 2021年 eスポーツ×アプリ 課金しても強さは変わらないゲームが増えていく話 | C2: 2021年 店舗×サードプレイス 承認欲求を満たしてくれる場所が増えていく話 | D2: 2023年 在宅ワーク×戦略コンサルタント 在宅ワーカーがコンサルタントの仕事を奪っていく話 | E2: 2022年 海×旅行 水深100メートルの海中旅行が富裕層から人気を集める話 | F2: 2021年 人工知能（AI）を搭載した認知症患者向け対話ロボットが商品化される話 | G2: 2022年 思考を予測したマネジメントが個人レベルで流行を始める | H2: 2030年 自立型AIが登場するが感受性は人間に遠く及ばない | I2: 2023年 集合人格が形成される | J2: 2024年 立教大学の全学生が在学中に海外体験をする | K2: 2021年 国内の家電大手が、中国江蘇省宜興市に高齢者向けスマートタウン（800戸）を建設。分譲する | L2: 2030年 うつ病が世界1位の疾病になる | M2: 2021年 オンライン型ビジネスピッチが流行する | N2: 2022年 課題を自動で作り出すサービスが脚光を浴びる | O2: 2022年 質問を自動で作り出すサービスが脚光を浴びる | P2: 2022年 データアナリストになることが就活の登竜門になる | Q2: 2021年 アプリの課金要素はコレクションの追求からこだわりの追求に変わる | R2: 2028年 全ての人間はスコア化されて公正明大な競争が始まる | S2: 2028年 密告制度が囚人のジレンマを引き起こし人を悩ませる | T2: 2022年 5G化によりスポーツとデータは融合する | U2: 2024年 米国の配車大手が、空飛ぶタクシーを実用化する | V2: 2022年 人間関係をデザインするという考え方が普及する | W2: 2022年 Youtubeチャンネルがテレビ番組形式になる | X2: 2030年 人の一生はパターン化される | Y2: 2030年 米国人の42％が肥満する | Z2: 2021年 物質、エネルギー、水がコミュニティー単位で高効率に活用される循環型社会を形成する技術が確立する | AA2: 2026年 年齢別に居住区域を分ける実験が行われる | AB2: 2023年 子供のいない夫婦が、オーストラリアのあたりまえ（一般的な家族形態）になる | AC2: 2021年 ガラス素材で耐久性を高めた、曲がる有機ELパネルの商品化が実現する | AD2: 2021年 国内主要9都市のホテル客室数が24％（8万室）増加し、すべての都市で供給過剰になる（従来予測は2020年に東京で3500室、福岡で1400室の不足） | AE2: 熱狂したい人と穏やかに暮らしたい人の二極化された社会で求められること | AF2: 審美眼を無くした現代人たち | AG2: あの人達がスーツを着なくなった時に分かったこと | AH2: 東南アジア主要6カ国のスマートフォン普及率が7割を超え、日米に迫る（現状は平均5割超。日米の予測は8割） | AI2: 団塊の世代の看取りが本格化し、43万人分の「死に場所」が不足する | AJ2: 2026年 粘膜に抗体をつくり、感染そのものを防止する次世代型ワクチンが実用化する | AK2: 2021年 仮想世界を楽しむAR/VRヘッドセットの出荷台数が世界で9940万台に達する（2016年比で約10倍。2016-21年の年平均成長率は58％） | AL2: 2025年 発展途上国発、プライベート警備会社が充実する 「」 | AM2: 2023年 運転免許を保有する75歳以上の高齢ドライバーが約717万人に達する 「運転するのは個人の自由だろう」自分は信号を待っていただけなのに車が突っ込んできた。身近な平穏がいきなり壊れる事件を増やさないために考えるべきこと。 | AN2: 2023年 国内の電話会社が、人工知能（AI）で約250の業務を効率化する | AO2: 2024年 「長期ビジョン」に取り組む東京都が、都民の「ボランティア行動者率」を40％に高める（2013年実績は24.6％） | AP2: 2024年 人の声と体験を記憶し、タイミングよく音声メモを再生して記憶を呼び覚ますポータブル・アシスト・デバイスが登場する | AQ2: 2024年 データの価値を視覚化し、取り引きするデータマーケットが実現する（2020-24年） | AR2: 2024年 モバイル機器に対する無線給電が実用化する | AS2: 2025年 自分の細胞を用いた「マイiPS細胞」が、約100万円の費用で作れるようになる | AT2: 2025年 世界で27億人が水不足と食料不足に直面する
A3: ２．なぜそうなるの？ | B3: ①eスポーツの影響で腕を競うことに平等性が求められるようになる ②強化目的の課金はいずれゲームバランスを崩してゲームの寿命を縮める | C3: ①コロナショックの回復反動により人々の意識に変化が生まれるから ②店舗は物を売る場所では無くなっていくから | D3: ①在宅ワークは経験を積めば積むほどスペシャリスト化していくから ②複数の会社が連携して1つのプロジェクトを進める方法が主流になっていくから | E3: ①事実は小説より奇なり。人工的な美しさよりも自然の偶然の美しさに興味が集まる ②誰もが見れないモノを見てコレクトすることがステータスとなっていく | F3: 人手不足の原因は激務と給料にあるという介護職がより良い環境になっていく | G3: 人に喜ばれる情報が増え続けた結果、ノウハウコレクターが増えていく | H3: マニュアルや型の決まった仕事はAIによって最短最速最適化されていく | I3: 人の人格はコミュニティが希求する人格を模倣するようになっていく | J3: 学生は海外で学んだ光景を基に新たな提案が出来る人材になっていく | K3: ユニバーサルデザインと5Gの融合が脚光を浴びて家庭にある家具家電も遅れて刷新されていく | L3: うつ病の原因の大半は人間不信によるものになっていく | M3: 新規ビジネスの企画提案は投げ銭システムを導入した即興的なサロンを中心に展開されていく | N3: 調べて考えて疑問を生み出す作業は人工知能が行うようになっていく | O3: 人に相談出来ない悩みを入力すると質問をしながら自分を導いてくれるサービスが人気を集めていく | P3: 学生は店舗バイトから在宅で出来るデータ分析業務を請け負うようになっていく | Q3: ゲームバランスを崩す強化目的の課金から個性とこだわりを磨く課金に変わっていく | R3: しがらみを解き格差を是正することに限界を覚える人が増えていく | S3: 人のスコア化が進んだ時、人脈と道徳を評価するために密告制度が適用される | T3: 超高速化、超多数同時接続、超低遅延が実現されることでリアルタイムサービスが充実していく | U3: 実用化から数年は富裕層向けかつ限定された区画を繋ぐ機能に留まる | V3: 出会う数は増えていくけど友達の数は変わらない | W3: Youtuberは組織化されて自分たちだけの番組表を作成するようになっていく | X3: 先人たちの膨大な経験値を集約した結果、勉強もビジネスも恋愛も遊びも全てがパターン化される | Y3: 身体の機械化により筋肉は衰え先進国では軒並み肥満率が上がっていく | Z3: まるでどうぶつの森のように日本全国住めば都、地方は土地柄を活かした特化発展をしていく | AA3: 高齢者が老後を安全に生活できる区域はバリアフリータウンと言われるようになっていく | AB3: 結婚をしたら必ず子どもを産み、男が働き女は家を守るという価値観が変わっていく | AC3: 液晶画面が曲がって貼れて薄くなることで気分に合わせて瞬時に柄を変える服などが流行り始める | AD3: 宿泊費の長期滞在プランや倉庫代わりとなるレンタルボックス機能に切り替わっていく | AG3: オフィス街がカラフルになる | AJ3: 「出社前に必ずリップを塗りましょう」感染予防にマスクを使う人が多いけどマスクは"予防"には効果が薄いという。そこで人間の粘膜にワクチン機能を持たせて手軽に感染予防が出来る時代が来る。 | AM3: 「煽り運転よりも怖いと思う」飲酒運転や煽り運転などは罰則を規定することで防ぐことが出来た。でも高齢者に運転を止めてもらう方法はあるのだろうか。これは大きな問題になる。 | AN3: 「AIが仕事をしても人は働き続ける」AI導入により新しい部署が生まれる。効率化により潤った企業は必要な人財に高額な給料を支払う。仕事を取られた人は別の働き口を探す必要がある。 | AP3: 「」
A4: ３．なにがヤバいの？ | B4: ①ユーザーは合理的な理由でゲームをするようになる ②課金で強くなるゲームのライフサイクルは3年以下になっていく | C4: ①人々は癒される場所のファンになり価格よりも居場所を求めて来店するようになる ②心を動かす体験型マーケティングから心を豊かにするヒーリングマーケティングが求められる | D4: ①誰でも出来る仕事から誰もが出来ない仕事に変わりコンサルと同等のレベルまで飛躍していく ②データ収集から分析、提案まで外部で出来るようになると絵を描くコンサルは少数精鋭になる | E4: ①「グラン・ブルー」と呼ばれる水深100mの世界が人の好奇心を掻き立てる ②謎の生物を研究することで生命の神秘、起源を探れる可能性が出てくる | F4: 職員の業務負担が和らげば心に余裕が生まれて、より熱心で親身な対応が継続しやすくなる | G4: 失敗しない方法を探求していると次第に実行そのものが億劫になる | H4: 創造するスキルを身に着けるか整備士になるかで二極化する | I4: 自分の意志だと思っていた発言や行動はコミュニティが生み出した人格によるものに変わる | J4: 現場の実践知と学問の融合により、起業家が爆発的に増える | K4: 住みやすさと高齢者隔離について大きな論争が生まれる | L4: 人間不信になればなるほど自分の価値観を相手に押し付けて一時的な優越感を得ようとする | M4: 誰が0から1を生み出したのかが明確になるため盗作は集団認知の力で抑制される | N4: 数字を入れるだけで課題が見える化されるため最適なリスクヘッジが誰でも出来るようになる | O4: 宗教的な人気を獲得するため使用されるAIはあらゆるサービスに応用され始める | P4: 学業の知識を実践して提案する機会が増えることで就活生が新卒コンサルレベルまで上がる | Q4: 競争が平等になりファンが増えるためアプリの平均ライフサイクルは3年から5年にまで伸びる | R4: 表向きは権力者層に支配させて、内実は人のスコア化に基づいた公正明大な競争が進められる | S4: Aの悪事をBが密告した時、Aの人脈から選ばれたCの答えがBに一致しなかった時、Bの評価はマイナスとなる | T4: スポーツはリアルタイムでヒートマップ×各種確率が表示されて戦略が可視化されるようになる | U4: 自動運転、レーダー装置、ジャミング防止粒子が人類の3種の神器と呼ばれ独占的な利益をもたらす | V4: お互いの距離は近づいたけど距離感が見えなくなる | W4: Youtube用のＣＭ制作、番組制作会社が次のメディア覇権を握るようになる | X4: 必要なデータを入れると1年先まで成功と失敗のパターン化された予測が出来るようになる | Y4: あらゆるサービスで肥満による重量課金が課せられて貧困層は目に見えない負のスパイラルに陥る | Z4: 生活費が安くなるため移住しやすく在宅ワークが当たり前になるため不自由しない生活が手に入る | AA4: 議論の焦点は資産家の楽園となるか孤独な牢獄になるかを中心に展開される | AB4: 充足している夫婦ほど子どもが原因で築いてきた資産が失われることに恐怖を持つようになる | AC4: 人形に貼る、服に貼る、小物に貼るなど用途は自己表現の数だけ広がっていく | AD4: 宿泊者による簡易的な配達業務サービスが提供されるなどホテル業はシェアリングサービス化する | AG4: 気持ちが明るくなる | AJ4: 例えば、ヒトや動物には外敵から身体を守るために粘膜という基礎スキルがある。粘膜のスキルにコロナ耐性を追加してあげることでコロナ感染の予防が出来るという考え方です。 | AM4: 若者は都心に行き高齢者が地域に残る。地域の過疎化は店舗の衰退を招く。EC配達サービスが浸透しない家庭は車移動がメインとなるため、高齢者が運転せざるを得ない状況となってしまう。 | AN4: 現在はコスト削減を狙って業務のアウトソーシングが人気ですが、内製化を進めたい企業はAIによる効率化に舵を切ります。同時に組織図に変化が生まれて、AIのメンテナンス資格が必須とされる内部補修部門が生まれます。 | AP4: 「」
A5: ４．なぜそうなっていくの？ | C5: ①リモートワークにより家でも職場でも利害関係が働き、人は人間関係に疲れていくから ②自分の存在を認めて必要としてくれるサービスが渇いた心に潤いを与えるから | D5: ①コストダウンを目的に外部人財を育てて囲い込む方法が今後の正攻法に変わっていくから ②最もパワーの掛かるデータ収集と分析を経験しないコンサルが増えれば人財は育たないから | E5: ①人工物はすべて人用にデザインされており予想できる美しさばかりが強調されているから ②深海100ｍの世界で撮影されるモノに規則性はなく不確かな現象が起きるかもしれないから
A6: ５．どうすればいいの？ Note用 | B6: ①課金形態はゲームバランスに影響が出ない範囲に留める ②ユーザーの個性とこだわりを 磨けるような課金要素にする | C6: ①馴染みのある場所だけど毎回違う人に出会えるような環境を提供してあげること ②同じ趣向を持つ人々がステータスを損なわずに出会える場所を作ってあげること | D6: 仕事経験とスキルのスコア化をして手配を楽にするサイトが必要かもしれない | E6: より喜ばれるためには、好奇心をくすぐる質問力を養うといいかもしれない | F6: 一歩進んで、好きな時にビデオカメラ、音声通話に切り替えられれば納得されやすいかも | G6: 答えのないものを想像して失敗が出来る環境に身を置く。そう、未来マップをやることです | H6: スキルのブランディングを上げる塾が必要かもしれない | I6: 人のモノローグをすくい上げるようなマーケティングがあれば 良いかもしれない | J6: 大学と企業が早くから手を組んで、大学越えた学生同士の語らいの場を作るといいかも | K6: 官民一体で地域をデザインすることで負担を抑える仕組みを構築していきたい | L6: 忖度のない納得が共有できる仕組みやサインが求められている | M6: 最低限、予実管理と実行計画が引ければ進捗を合わせることができる | N6: サプライチェーンを具体的に数値化出来る人の協力を仰ぐこと | O6: 人の支えがあるからAIの答えを実現できるということを共通認識として持っておくこと | P6: どのような業務で何が学べるてどうなれるのかを伝えると学生の向上心に刺さると思われる | Q6: 新しいゲームを開発するのではなく新しいジャンルを開発することでヒット作を作ることが出来る | R6: 嘘やズルが明るみになる密告制度が敷かれていくかもしれない | S6: 何のために生きているのかを強く信じられる自分になっていくこと | T6: スポーツのデータを解説するメディアがあれば新たなニーズを生んで全体の満足度を上げることが出来る | U6: 原因を利ありタイムで解明できる探査解析装置を裏で持っておくことが抑止力になる | V6: 若いうちから多方面にチャレンジをしてやりたい事、好きな事を見つける | W6: 使用ソフトとマニュアルを早くから配布してクリエイターの囲い込みをしておくこと | X6: 20歳までに予測の超え方を教えるメンターを付けることが必要になる | Y6: 清貧とも呼べる精神状態に自分を昇華するために夢中になれる瞬間を探すことが必要 | Z6: どのような文化があるのか自治体が細かく明らかにした上で誘致を行う | AA6: 居住者民度をスコア化して一定を保つ者だけが住めるようにするなど資産以外の基準を作る | AB6: 子どもがいることで起きるリスクとリターンが想定出来るプロモーションが必要かも | AC6: モデル女性のプライバシーと治安維持に向けて撮影許諾の仕組みやデータに撮影情報を入れること | AD6: 地域活性化しつつ収入の柱を増やせるようなシェアリングサービスを立案すること | AG6: 新フォーマルの確立 | AK6: ARジムの創設
A7: １．どんな悩みがあるの？ | B7: 課金しなきゃ強くなんないし、いくら練習してもお金持っているやつに勝てないよ！ | C7: 僕はお金のために人にやさしくするような人になりたくないよ、利害関係で動くことに疲れちゃった… | D7: 在宅パンダちゃんはお仕事がつまらなそうにしてる 「誰でも出来るデータ入力なんてつまんないよっ」 | E7: 素晴らしい景色を見せるだけのデートは一回目は良いけど二回目は…涙 | F7: 導入に際して、親族からある種の人権問題、道徳的反対が起きるかもしれない | G7: 与えられた課題の解決能力は高いけど自ら問いを作れないことが問題 | H7: 魅せられない説明できないスキルは評価されなくなる | I7: 消費者の声が本物なのか信憑性がなくなりネットを利用したマーケティングが信頼を失っていく | J7: 実現するために乗り越えるべきハードルが多すぎて宝の持ち腐れになってしまうかもしれない | K7: スマートタウンの需要が増えれば地価が上がるため、老後貧富の格差が浮き彫りになる | L7: オンラインコミュニケーションが人間不信を招きうつ病を増やす | M7: 企画提案と賛同者を見て未来設計が出来ないPFは企画倒れになっていく | N7: 方法論が自動化される反動で人モノ金の最適な予実計画を考えられないことによる失敗が増える | O7: 自己肯定感を失いAI依存症になりうつ病になる人間も増え始める | P7: 学生は独立独歩が出来る実力を持つがゆえに中小企業はますます人手不足に陥る | Q7: 同ジャンルアプリの住み分けは困難になる | R7: コミュニティ単位の結束が強くなり孤高という存在自体が死語になっていく | S7: コミュニティ別のナショナリズムが増えて極端な思想が肯定されてしまうかもしれない | T7: データに意味付けをしなければ客層が分離してスポーツ人気の下落原因となってしまう | U7: 事故原因の大半はジャミングとハッキングが占めるようになる | V7: 無自覚に誰かに依存する人が それを正当化しようとして 主義主張が広め始める | W7: 映像クリエイターが不足する | X7: どちらも選べない人間は死んでいないだけの状態になり、死に至る病のパンデミックが起きる | Y7: 暴力否定とネット規制で不満のはけ口が減り、満たされない欲求をコントロールできないこと | Z7: 街の風習や伝統を守りたい人と自由を求める移住者で対立が起きる | AA7: 人気になるにつれて地価が上がり低所得層を追い出しいつの間にか資産家の楽園になること | AB7: 子どもは個人の時間を奪うという考えが定着してしまうと出生率はもう上がらなくなる | AC7: 偶然を装い一般人まで無差別に撮影される可能性もありプライバシー汚染リスクが懸念される | AD7: 収入源が限られる人や人との出会いが少なくなる人が増える | AG7: 無難が無くなる、服装迷子 | AK7: 肥満が増える
A8: ２．世の中の共感できる話題 | B8: オリンピックでeスポーツが競技種目に追加されると何が起きるの！？ | C8: 未来食堂って凄いなぁ、強制じゃないのに自分で進んで何かをしたいと思える場所、そこに行ってみたい | D8: 必要だけど世の中にまだ存在しないデータを作成する仕事って凄いなぁ、目指すはそこだね！ | E8: 水深100メートルの深さで楽しむ海中旅行サービスがはじまるよ！
A9: ３．なにがスゴイの？ | B9: ユーザーがアプリに使った時間と労力とお金のどれかが継続的に報われるようになっていく | C9: 自発的に苦も無くただ面白いから行動してみたら周りの人が喜んでくれて、やればやるほど喜ぶ人が増えていく、そんな仕組みがある未来食堂って凄い！ | D9: 線をつなぐ仕事は発想次第だけど、点を作る仕事は地道な努力の積み重ね、誰でも出来るものじゃない！ 在宅ワークのレベルが上がると点を作る仕事になる | E9: 誰も見たことのない偶然生まれる風景は好奇心を刺激してくれる！飽きの来ないデートが楽しめそう！ | F9: 運営がロボットと人の労働バランス見直して職員の士気と満足度が上がる仕組みを作っていくことが大切になる | G9: 初めから選択肢を与えて事前に想定される結果と影響を伝える予測型マネジメントが喜ばれるかもしれない | H9: 人を喜ばせる仕掛けや人を想う気持ちが新しいビジネスチャンスになる | I9: 集合人格と同化しないために、分自身の原体験を整理することが求められるかもしれない | J9: 学生のアウトプットを価値あるものに昇華できる仕組み作りが必要かもしれない | K9: そこで誰が何を残したのか、街の移り変わりを風情と捉えることができる装置、媒体が求められる | L9: 自分の分かる言葉ではなく相手が分かる言葉でコミュニケーションを取ることが大切になる | M9: 投げ銭で払うお金が継続的な信用資産に変わることが分かる仕組み作りが大切になる | N9: 課題の精度を上げるために過去の事例を数値化して歴史のパターン化が出来る人材が求められる | O9: 必ず答えを出し続けることに徹底してフォーカスすればするほど完成度は高まっていく | P9: 学生のアイディアが食い潰されない安心して意見を出し合えるコミュニティが必要になる | Q9: 課金額が落ちる代わりにサロン化するなどファンを喜ばせる長期的な仕掛けが必要になってくる | R9: 人間のスコア化が始まった時に自分を証明できる武器を磨いておくこと | S9: 普段から自分の言動を一致させることと人によって自分を変えないことが求められる | T9: プレーの結果を見るだけでなく、プレーの要因や過程を追求できる目を養うことが必要になる | U9: 大量生産試験改良を口実に技術が戦争経済に組み込まれる前に法整備条約締結をすること | V9: 自分の周りには誰がいて、この人はどういう人で、どんな思い出があるのかを俯瞰するマップが必要になる | W9: チャンネル登録後に自分たちのグループを好きになってもらえる仕組みを作り出すこと | X9: 予測を超える現象に対する付加価値が上がるため、セレンディピティの研究が求められる | Y9: 誰もが"精進料理"を好きになることは出来ないが、抜本的な食生活の改善が必要になる | Z9: ライフシェアリングという考え方が普及するため隣人愛の心を持つことが生きやすさに直結する | AA9: IoTとデザインの融合により高齢者のセーフティーネットにもなる汎用的な街づくりが期待される | AB9: 子育てに正解はないけれども愛情を注げる時間と環境があればあるほどより良い方向に進むと思う | AC9: インフルエンサーはリアルで街を歩く広告塔になり、アパレルテックを活用出来る仕組みを作っておくこと | AD9: ホテルに滞在する対象と立地を利用したソフト面を強化するサービスを立案すること | AJ9: もし保湿クリームと同じような感覚で塗るだけで感染予防が出来るようになったらどれだけ楽だろう。使い捨てで予防にも期待の薄いマスクを求めるしかない状況が変わったら革命ですよね。 | AM9: 例えば過疎地域の高齢者専用の食料品配達サービスの実現や自動運転に切り替えるなど、運転する必要性を減らすことが解決に繋がる。 | AN9: AIがオープンソースになった場合は社内で複製が可能になる。修正と改良が出来る人材はどこでも必要とされる。起業を志す人にとってはこれ以上ないビジネスチャンスになるかもしれない。
A10: ４．話の背景には何があるの？ | B10: =B3 -> ①eスポーツの影響で腕を競うことに平等性が求められるようになる ②強化目的の課金はいずれゲームバランスを崩してゲームの寿命を縮める | C10: =C3 -> ①コロナショックの回復反動により人々の意識に変化が生まれるから ②店舗は物を売る場所では無くなっていくから | D10: =D3 -> ①在宅ワークは経験を積めば積むほどスペシャリスト化していくから ②複数の会社が連携して1つのプロジェクトを進める方法が主流になっていくから | E10: =E3 -> ①事実は小説より奇なり。人工的な美しさよりも自然の偶然の美しさに興味が集まる ②誰もが見れないモノを見てコレクトすることがステータスとなっていく | F10: =F3 -> 人手不足の原因は激務と給料にあるという介護職がより良い環境になっていく | G10: =G3 -> 人に喜ばれる情報が増え続けた結果、ノウハウコレクターが増えていく | H10: =H3 -> マニュアルや型の決まった仕事はAIによって最短最速最適化されていく | I10: =I3 -> 人の人格はコミュニティが希求する人格を模倣するようになっていく | ... AT10: =AT3 -> 0
A11: 5．結論 | B11: 2021年 eスポーツ人気が過熱すると課金で強くなるゲームは時代遅れになっていく | C11: 2021年 実店舗はサードプレイスの機能が求められる | D11: 2021年 在宅コンサルタントが急激に増加していく | E11: 2022年 きれいな海を水深100メートルの深さで楽しむ海中旅行サービスがはじまる | F11: 2021年 人工知能（AI）を搭載した認知症患者向け対話ロボットが商品化する | G11: 2022年 思考を予測したマネジメントが個人レベルで流行を始める | H11: 2030年 自立型AIが登場するが感受性は人間に遠く及ばない | I11: 2023年 集合人格が形成される | J11: 2024年 立教大学の全学生が在学中に海外体験をする | K11: 2021年 国内の家電大手が、中国江蘇省宜興市に高齢者向けスマートタウン（800戸）を建設。分譲する | L11: 2030年 うつ病が世界1位の疾病になる | M11: 2021年 オンライン型ビジネスピッチが流行する | N11: 2022年 課題を自動で作り出すサービスが脚光を浴びる | O11: 2022年 質問を自動で作り出すサービスが脚光を浴びる | P11: 2022年 データアナリストになることが就活の登竜門になる | Q11: 2021年 アプリの課金要素はコレクションの追求からこだわりの追求に変わる | R11: 2028年 全ての人間はスコア化されて公正明大な競争が始まる | S11: 2028年 密告制度が囚人のジレンマを引き起こし人を悩ませる | T11: 2022年 5G化によりスポーツとデータは融合する | U11: 2024年 米国の配車大手が、空飛ぶタクシーを実用化する | V11: 2022年 人間関係をデザインするという考え方が普及する | W11: 2022年 Youtubeチャンネルがテレビ番組形式になる | X11: 2030年 人の一生はパターン化される | Y11: 2030年 米国人の42％が肥満する | Z11: 2021年 物質、エネルギー、水がコミュニティー単位で高効率に活用される循環型社会を形成する技術が確立する | AA11: 2026年 年齢別に居住区域を分ける実験が行われる | AB11: 2023年 子供のいない夫婦が、オーストラリアのあたりまえ（一般的な家族形態）になる | AC11: 2021年 ガラス素材で耐久性を高めた、曲がる有機ELパネルの商品化が実現する | AD11: 2021年 国内主要9都市のホテル客室数が24％（8万室）増加し、すべての都市で供給過剰になる（従来予測は2020年に東京で3500室、福岡で1400室の不足） | AE11: 熱狂したい人と穏やかに暮らしたい人の二極化された社会で求められること | AF11: 審美眼を無くした現代人たち | AG11: あの人達がスーツを着なくなった時に分かったこと | AH11: 東南アジア主要6カ国のスマートフォン普及率が7割を超え、日米に迫る（現状は平均5割超。日米の予測は8割） | AI11: 団塊の世代の看取りが本格化し、43万人分の「死に場所」が不足する | AJ11: 2026年 粘膜に抗体をつくり、感染そのものを防止する次世代型ワクチンが実用化する | AK11: 2021年 仮想世界を楽しむAR/VRヘッドセットの出荷台数が世界で9940万台に達する（2016年比で約10倍。2016-21年の年平均成長率は58％） | AL11: 2025年 発展途上国発、プライベート警備会社が充実する 「」 | AM11: 2023年 運転免許を保有する75歳以上の高齢ドライバーが約717万人に達する 「運転するのは個人の自由だろう」自分は信号を待っていただけなのに車が突っ込んできた。身近な平穏がいきなり壊れる事件を増やさないために考えるべきこと。 | AN11: 2023年 国内の電話会社が、人工知能（AI）で約250の業務を効率化する | AO11: 2024年 「長期ビジョン」に取り組む東京都が、都民の「ボランティア行動者率」を40％に高める（2013年実績は24.6％） | AP11: 2024年 人の声と体験を記憶し、タイミングよく音声メモを再生して記憶を呼び覚ますポータブル・アシスト・デバイスが登場する | AQ11: 2024年 データの価値を視覚化し、取り引きするデータマーケットが実現する（2020-24年） | AR11: 2024年 モバイル機器に対する無線給電が実用化する | AS11: 2025年 自分の細胞を用いた「マイiPS細胞」が、約100万円の費用で作れるようになる | AT11: 2025年 世界で27億人が水不足と食料不足に直面する

Sheet map_過去
A1: No | B1: １．シナリオを一言で言うと | C1: ２．世の中はどうなっていくの？ | D1: ３．どんなことが起きるの？ | E1: ４．何が大切になっていくの？ | F1: ２．どんなことが起きるの？ | G1: ３．どんな課題があるの？ | H1: ４．解決策は何？ | I1: リスク | J1: 対象者
A2: 1 | B2: 2021年 在宅コンサルタントが急激に増加していく | C2: 会社同士がチームになってプロジェクトを実行していく 複数の会社が連携して1つのプロジェクトを進める方法が主流になっていく | D2: 達成手段は問われない、自分らしさが武器になる 時間に縛られず自分のやり方で成果を出すことに集中できる環境になる | E2: あなたはゴールまでの距離と障害物は見えていますか？ 業務遂行計画書なるマップを描ける人材が重宝されるようになるかもしれない | F2: PMが企業課題に道筋を付けてユニット単位で課題解決をする手法が流行している | G2: 優秀な人財手配と作業の振分けに伴う適正価格を設定をどうするか | H2: 仕事経験とスキルのスコア化をして手配を楽にするサイトが必要かもしれない | I2: 知的財産権の流出 データの改竄 データ漏洩 データ消失 | J2: コンサルタント
A3: 2 | B3: 2021年 実店舗はサードプレイスの機能が求められる | C3: 実店舗はモノを売る場所から心を豊かにする場所に変わっていく | D3: 人々は心を落ち着かせるため、好奇心を刺激するために来店する | E3: ステータスも感じられてコミュニティ作りも活性化する会員型の憩いの場が喜ばれるかもしれない | F3: ネットから得られる刺激に飽きて、人と人が会うことが再注目を浴びる | G3: 出会い方が好印象にならなければ出会いは広がらない | H3: 同じ趣向を持つ人々がステータスを損なわずに出会える場所がほしい
A4: 3 | B4: 2022年 思考を予測したマネジメントが個人レベルで流行を始める | C4: 人に喜ばれる情報が増え続けた結果、ノウハウコレクターが増えていく | D4: 失敗しない方法を探求していると次第に実行そのものが億劫になる | E4: 初めから選択肢を与えて事前に想定される結果と影響を伝える予測型マネジメントが喜ばれるかもしれない | F4: 操られることを見守られていると錯覚するほどに疑わず受け入れる性格を持った人々が増えていく | G4: 与えられた課題の解決能力は高いけど自ら問いを作れないことが問題 | H4: 答えのないものを想像して失敗が出来る環境に身を置く。そう、未来マップをやることです
A5: 4 | B5: 2030年 自立型AIが登場するが感受性は人間に遠く及ばない | C5: マニュアルや型の決まった仕事はAIによって最短最速最適化されていく | D5: 創造するスキルを身に着けるか整備士になるかで二極化する | E5: 人を喜ばせる仕掛けや人を想う気持ちが新しいビジネスチャンスになる | F5: 労働力はスコア化されてスキルの応用表現力が求められるようになっていく | G5: 魅せられない説明できないスキルは評価されなくなる | H5: スキルのブランディングを上げる塾が必要かもしれない
A6: 5 | B6: 2023年 集合人格が形成される | C6: 人の人格はコミュニティが希求する人格を模倣するようになっていく | D6: 自分の意志だと思っていた発言や行動はコミュニティが生み出した人格によるものに変わる | E6: 集合人格と同化しないために、分自身の原体験を整理することが求められるかもしれない | F6: ネットから分かる消費者像や発言がパターン化されていく | G6: 消費者の声が本物なのか信憑性がなくなりネットを利用したマーケティングが信頼を失っていく | H6: 人のモノローグをすくい上げるようなマーケティングがあれば 良いかもしれない
A7: 6 | B7: 2024年 立教大学の全学生が在学中に海外体験をする | C7: 学生は海外で学んだ光景を基に新たな提案が出来る人材になっていく | D7: 現場の実践知と学問の融合により、起業家が爆発的に増える | E7: 学生のアウトプットを価値あるものに昇華できる仕組み作りが必要かもしれない | F7: 地方地域の小さい成功を大きく仕組み化して還元することが注目される | G7: 実現するために乗り越えるべきハードルが多すぎて宝の持ち腐れになってしまうかもしれない | H7: 大学と企業が早くから手を組んで、大学越えた学生同士の語らいの場を作るといいかも
A8: 7 | B8: 2022年 きれいな海を水深100メートルの深さで楽しむ海中旅行サービスがはじまる | C8: 「グラン・ブルー」と呼ばれる水深100mの世界を見れる日がやってくる | D8: 謎の海中生物を研究することで生命の神秘、起源を探れる可能性が出てくる | E8: 既存研究分野の整理とこれから続々生まれる研究成果の過不足ない統合が求められる | F8: 造られた世界ではない、大自然を堪能できる新たなデートスポットが生まれる | G8: 素晴らしい景色を見せるだけのデートは一過性の感情しか生み出さない | H8: より喜ばれるためには、好奇心をくすぐる質問力を養うといいかもしれない
A9: 8 | B9: 2021年 人工知能（AI）を搭載した認知症患者向け対話ロボットが商品化する | C9: 人手不足の原因は激務と給料にあるという介護職がより良い環境になっていく | D9: 職員の業務負担が和らげば心に余裕が生まれて、より熱心で親身な対応が継続しやすくなる | E9: 運営がロボットと人の労働バランス見直して職員の士気と満足度が上がる仕組みを作っていくことが大切になる | F9: もしスムーズに導入が進めば介護現場の業務量が軽減されていく | G9: 導入に際して、親族からある種の人権問題、道徳的反対が起きるかもしれない | H9: 一歩進んで、好きな時にビデオカメラ、音声通話に切り替えられれば納得されやすいかも
A10: 9 | B10: 2021年 国内の家電大手が、中国江蘇省宜興市に高齢者向けスマートタウン（800戸）を建設。分譲する | C10: ユニバーサルデザインと5Gの融合が脚光を浴びて家庭にある家具家電も遅れて刷新されていく | D10: 住みやすさと高齢者隔離について大きな論争が生まれる | E10: そこで誰が何を残したのか、街の移り変わりを風情と捉えることができる装置、媒体が求められる | F10: IoTを活かしたバリアフリータウンが建設されて高齢者にやさしい街が開発されていく | G10: スマートタウンの需要が増えれば地価が上がるため、老後貧富の格差が浮き彫りになる | H10: 官民一体で地域をデザインすることで負担を抑える仕組みを構築していきたい
A11: 10 | B11: 2030年 うつ病が世界1位の疾病になる | C11: うつ病の原因の大半は人間不信によるものになっていく | D11: 人間不信になればなるほど自分の価値観を相手に押し付けて一時的な優越感を得ようとする | E11: 自分の分かる言葉ではなく相手が分かる言葉でコミュニケーションを取ることが大切になる | F11: オンラインが普及すればするほど本音が見えず悩みは深くなっていく | G11: オンラインコミュニケーションが人間不信を招きうつ病を増やす | H11: 忖度のない納得が共有できる仕組みやサインが求められている
A12: 11 | B12: 2021年 オンライン型ビジネスピッチが流行する | C12: 新規ビジネスの企画提案は投げ銭システムを導入した即興的なサロンを中心に展開されていく | D12: 誰が0から1を生み出したのかが明確になるため盗作は集団認知の力で抑制される | E12: 投げ銭で払うお金が継続的な信用資産に変わることが分かる仕組み作りが大切になる | F12: お金を払うことで立場を明確にするというコンセプトは他分野でも応用ができる | G12: 企画提案と賛同者を見て未来設計が出来ないPFは企画倒れになっていく | H12: 最低限、予実管理と実行計画が引ければ進捗を合わせることができる
A13: 12 | B13: 2022年 課題を自動で作り出すサービスが脚光を浴びる | C13: 調べて考えて疑問を生み出す作業は人工知能が行うようになっていく | D13: 数字を入れるだけで課題が見える化されるため最適なリスクヘッジが誰でも出来るようになる | E13: 課題の精度を上げるために過去の事例を数値化して歴史のパターン化が出来る人材が求められる | F13: 問題提起や課題解決方法はパターン化されていく | G13: 方法論が自動化される反動で人モノ金の最適な予実計画を考えられないことによる失敗が増える | H13: サプライチェーンを具体的に数値化出来る人の協力を仰ぐこと
A14: 13 | B14: 2022年 質問を自動で作り出すサービスが脚光を浴びる | C14: 人に相談出来ない悩みを入力すると質問をしながら自分を導いてくれるサービスが人気を集めていく | D14: 宗教的な人気を獲得するため使用されるAIはあらゆるサービスに応用され始める | E14: 必ず答えを出し続けることに徹底してフォーカスすればするほど完成度は高まっていく | F14: 自分を支える賛同者がAIに代わっていく | G14: 自己肯定感を失いAI依存症になりうつ病になる人間も増え始める | H14: 人の支えがあるからAIの答えを実現できるということを共通認識として持っておくこと
... A29: 28 | B29: 2021年 国内主要9都市のホテル客室数が24％（8万室）増加し、すべての都市で供給過剰になる（従来予測は2020年に東京で3500室、福岡で1400室の不足） | C29: 宿泊費の長期滞在プランや倉庫代わりとなるレンタルボックス機能に切り替わっていく | D29: 宿泊者による簡易的な配達業務サービスが提供されるなどホテル業はシェアリングサービス化する | E29: ホテルに滞在する対象と立地を利用したソフト面を強化するサービスを立案すること | F29: 家を持たないホテルステイ者やリモートワーク者の滞在が増えていく | G29: 収入源が限られる人や人との出会いが少なくなる人が増える | H29: 地域活性化しつつ収入の柱を増やせるようなシェアリングサービスを立案すること

Sheet seed
A2: No | B2: １．シナリオを一言で言うと | C2: ２．どんな課題があるの？ | D2: ３．どうやって解決するの？ | E2: ４．その魅力は？ | F2: 経済効果 | G2: ２．どんなことが起きるの？ | H2: ３．どんな課題があるの？ | I2: ４．解決策は何？ | J2: リスク | K2: 対象者
A3: 1 | B3: サッカー×心理分析 決定的な場面の選手心理を解説してみたらどうだろう？ | C3: サッカーIQが原因で生じる壁は最も越えることが難しいと言われておりセンスだけで生き残るのは稀 | D3: 得点までの流れの中で”なぜ”こうしたかを解き明かすことで思考を読み地頭を鍛えることが出来る | E3: サッカーは上に行けば行くほど心理戦が熱いため心理状態に迫れば迫るほど深い話が眠っている！ | F3: #REF! | G3: PMが企業課題に道筋を付けてユニット単位で課題解決をする手法が流行している | H3: 優秀な人財手配と作業の振分けに伴う適正価格を設定をどうするか | I3: 仕事経験とスキルのスコア化をして手配を楽にするサイトが必要かもしれない | J3: 知的財産権の流出 データの改竄 データ漏洩 データ消失 | K3: コンサルタント

Sheet ④計算の流れ
C4: 新規需要額 【Ａ】 | D4: Aのうち国産品で 対応する分 【A*】 （A×自給率） | E4: 波及効果 【Ｂ】 （逆行列×列ベクトルA*)
A5: 01 | B5: 農林漁業 | C5: =③金額入力及び結果!D5 -> 0 | D5: =C5*⑤取引基本表!BJ5 -> 0 | E5: {=MMULT(⑥逆行列!C5:AM41,D5:D41)} -> 285.05428
A6: 06 | B6: 鉱業 | C6: =③金額入力及び結果!D6 -> 0 | D6: =C6*⑤取引基本表!BJ6 -> 0 | E6: 1.0767739
A7: 11 | B7: 飲食料品 | C7: =③金額入力及び結果!D7 -> 1600 | D7: =C7*⑤取引基本表!BJ7 -> 1325.2275 | E7: 1592.9865
A8: 15 | B8: 繊維製品 | C8: =③金額入力及び結果!D8 -> 0 | D8: =C8*⑤取引基本表!BJ8 -> 0 | E8: 2.0573494
A9: 16 | B9: パルプ・紙・木製品 | C9: =③金額入力及び結果!D9 -> 0 | D9: =C9*⑤取引基本表!BJ9 -> 0 | E9: 41.775769
A10: 20 | B10: 化学製品 | C10: =③金額入力及び結果!D10 -> 0 | D10: =C10*⑤取引基本表!BJ10 -> 0 | E10: 42.501928
A11: 21 | B11: 石油・石炭製品 | C11: =③金額入力及び結果!D11 -> 0 | D11: =C11*⑤取引基本表!BJ11 -> 0 | E11: 22.877588
A12: 22 | B12: プラスチック・ゴム製品 | C12: =③金額入力及び結果!D12 -> 0 | D12: =C12*⑤取引基本表!BJ12 -> 0 | E12: 39.684693
A13: 25 | B13: 窯業・土石製品 | C13: =③金額入力及び結果!D13 -> 0 | D13: =C13*⑤取引基本表!BJ13 -> 0 | E13: 6.0706552
A14: 26 | B14: 鉄鋼 | C14: =③金額入力及び結果!D14 -> 0 | D14: =C14*⑤取引基本表!BJ14 -> 0 | E14: 12.310648
A15: 27 | B15: 非鉄金属 | C15: =③金額入力及び結果!D15 -> 0 | D15: =C15*⑤取引基本表!BJ15 -> 0 | E15: 4.3185719
A16: 28 | B16: 金属製品 | C16: =③金額入力及び結果!D16 -> 0 | D16: =C16*⑤取引基本表!BJ16 -> 0 | E16: 21.626467
A17: 29 | B17: はん用機械 | C17: =③金額入力及び結果!D17 -> 0 | D17: =C17*⑤取引基本表!BJ17 -> 0 | E17: 1.0185699
... A41: 69 | B41: 分類不明 | C41: =③金額入力及び結果!D41 -> 0 | D41: =C41*⑤取引基本表!BJ41 -> 0 | E41: 13.736381
B44: 合計 | C44: =SUM(C5:C41) -> 1600 | D44: =SUM(D5:D41) -> 1325.2275 | E44: =SUM(E5:E41) -> 2604.3659

Sheet ⑤取引基本表
C1: 平成27年（2015年）産業連関表 取引基本表（生産者価格評価） （統合大分類） | BE1: （単位：１００万円）
C3: 01 | D3: 06 | E3: 11 | F3: 15 | G3: 16 | H3: 20 | I3: 21 | J3: 22 | K3: 25 | L3: 26 | M3: 27 | N3: 28 | O3: 29 | P3: 30 | Q3: 31 | R3: 32 | S3: 33 | T3: 34 | U3: 35 | V3: 39 | W3: 41 | X3: 46 | Y3: 47 | Z3: 48 | AA3: 51 | AB3: 53 | AC3: 55 | AD3: 57 | AE3: 59 | AF3: 61 | AG3: 63 | AH3: 64 | AI3: 65 | AJ3: 66 | AK3: 67 | AL3: 68 | AM3: 69 | AN3: 70 | AO3: 71 | AP3: 72 | AQ3: 73 | AR3: 74 | AS3: 75 | AT3: 76 | AU3: 78 | AV3: 79 | AW3: 80 | AX3: 81 | AY3: 82 | AZ3: 83 | BA3: 84 | BB3: 85 | BC3: 86 | BD3: 87 | BE3: 88 | BF3: 97
C4: 農林漁業 | D4: 鉱業 | E4: 飲食料品 | F4: 繊維製品 | G4: パルプ・紙・木製品 | H4: 化学製品 | I4: 石油・石炭製品 | J4: プラスチック・ゴム製品 | K4: 窯業・土石製品 | L4: 鉄鋼 | M4: 非鉄金属 | N4: 金属製品 | O4: はん用機械 | P4: 生産用機械 | Q4: 業務用機械 | R4: 電子部品 | S4: 電気機械 | T4: 情報通信機器 | U4: 輸送機械 | V4: その他の製造工業製品 | W4: 建設 | X4: 電力・ガス・熱供給 | Y4: 水道 | Z4: 廃棄物処理 | AA4: 商業 | AB4: 金融・保険 | AC4: 不動産 | AD4: 運輸・郵便 | AE4: 情報通信 | AF4: 公務 | AG4: 教育・研究 | AH4: 医療・福祉 | AI4: 他に分類されない会員制団体 | AJ4: 対事業所サービス | AK4: 対個人サービス | AL4: 事務用品 | AM4: 分類不明 | AN4: 内生部門計 | AO4: 家計外消費支出（列） | AP4: 民間消費支出 | AQ4: 一般政府消費支出 | AR4: 国内総固定資本形成（公的） | AS4: 国内総固定資本形成（民間） | AT4: 在庫純増 | AU4: 国内最終需要計 | AV4: 国内需要合計 | AW4: 輸出 | AX4: 輸出計 | AY4: 最終需要計 | AZ4: 需要合計 | BA4: （控除）輸入 | BB4: （控除）関税 | BC4: （控除）輸入品商品税 | BD4: （控除）輸入計 | BE4: 最終需要部門計 | BF4: 国内生産額 | BH4: 輸入の絶対値 （(87)の絶対値） | BI4: 輸入係数 （輸入/国内需要合計（79）） | BJ4: 自給率 （１－輸入係数）
A5: 01 | B5: 農林漁業 | C5: 1566738 | D5: 63 | E5: 7487651 | F5: 29357 | G5: 362449 | H5: 41547 | I5: 0 | J5: 156018 | K5: 922 | L5: 2 | M5: 116 | N5: 0 | O5: 0 | P5: 0 | Q5: 0 | R5: 0 | S5: 0 | T5: 0 | U5: 14 | V5: 70215 | W5: 63474 | X5: 0 | Y5: 0 | Z5: 0 | AA5: 11343 | AB5: 0 | AC5: 181 | AD5: 2269 | AE5: 0 | AF5: 1728 | AG5: 92597 | AH5: 194454 | AI5: 9212 | AJ5: 866 | AK5: 1219209 | AL5: 0 | AM5: 0 | AN5: 11310425 | AO5: 67984 | AP5: 3821831 | AQ5: 0 | AR5: 0 | AS5: 193424 | AT5: 189251 | AU5: 4272490 | AV5: 15582915 | AW5: 112607 | AX5: 112607 | AY5: 4385097 | AZ5: 15695522 | BA5: -2553754 | BB5: -46311 | BC5: -207835 | BD5: -2807900 | BE5: 1577197 | BF5: 12887622 | BH5: =BD5*(-1) -> 2807900 | BI5: =BH5/AV5 -> 0.18019093 | BJ5: =1-BI5 -> 0.81980907
A6: 06 | B6: 鉱業 | C6: 410 | D6: 1501 | E6: 11031 | F6: 1328 | G6: 53346 | H6: 142794 | I6: 9840027 | J6: 1643 | K6: 406795 | L6: 1368348 | M6: 1264267 | N6: 3009 | O6: 633 | P6: 942 | Q6: 375 | R6: 2263 | S6: 748 | T6: 163 | U6: 5945 | V6: 4505 | W6: 380410 | X6: 7618810 | Y6: 0 | Z6: 11 | AA6: 264 | AB6: 42 | AC6: 78 | AD6: 445 | AE6: 17 | AF6: 442 | AG6: 1732 | AH6: 610 | AI6: 282 | AJ6: 656 | AK6: 1121 | AL6: 0 | AM6: 1035 | AN6: 21116028 | AO6: -5364 | AP6: -6120 | AQ6: 0 | AR6: 0 | AS6: -6516 | AT6: -1851 | AU6: -19851 | AV6: 21096177 | AW6: 45075 | AX6: 45075 | AY6: 25224 | AZ6: 21141252 | BA6: -18141519 | BB6: 0 | BC6: -2151818 | BD6: -20293337 | BE6: -20268113 | BF6: 847915 | BH6: =BD6*(-1) -> 20293337 | BI6: =BH6/AV6 -> 0.96194382 | BJ6: =1-BI6 -> 0.038056184
A7: 11 | B7: 飲食料品 | C7: 1484167 | D7: 0 | E7: 6974720 | F7: 8167 | G7: 19844 | H7: 198986 | I7: 70 | J7: 226 | K7: 3007 | L7: 21 | M7: 0 | N7: 0 | O7: 0 | P7: 0 | Q7: 0 | R7: 0 | S7: 0 | T7: 0 | U7: 0 | V7: 31038 | W7: 1513 | X7: 0 | Y7: 0 | Z7: 0 | AA7: 13429 | AB7: 0 | AC7: 0 | AD7: 9025 | AE7: 15 | AF7: 12837 | AG7: 244656 | AH7: 577423 | AI7: 6238 | AJ7: 398 | AK7: 7210056 | AL7: 0 | AM7: 14328 | AN7: 16810164 | AO7: 872655 | AP7: 27790393 | AQ7: 0 | AR7: 0 | AS7: 0 | AT7: -17198 | AU7: 28645850 | AV7: 45456014 | AW7: 690924 | AX7: 690924 | AY7: 29336774 | AZ7: 46146938 | BA7: -5801838 | BB7: -450537 | BC7: -1553914 | BD7: -7806289 | BE7: 21530485 | BF7: 38340649 | BH7: =BD7*(-1) -> 7806289 | BI7: =BH7/AV7 -> 0.17173281 | BJ7: =1-BI7 -> 0.82826719
A8: 15 | B8: 繊維製品 | C8: 75909 | D8: 3309 | E8: 37996 | F8: 845758 | G8: 77996 | H8: 27149 | I8: 445 | J8: 76215 | K8: 19909 | L8: 9092 | M8: 7767 | N8: 14510 | O8: 11271 | P8: 22112 | Q8: 7746 | R8: 48969 | S8: 39787 | T8: 9172 | U8: 93332 | V8: 43694 | W8: 190998 | X8: 3739 | Y8: 4292 | Z8: 9359 | AA8: 400604 | AB8: 53367 | AC8: 2210 | AD8: 90055 | AE8: 52812 | AF8: 131088 | AG8: 21999 | AH8: 198143 | AI8: 111852 | AJ8: 147996 | AK8: 196041 | AL8: 28541 | AM8: 2386 | AN8: 3117620 | AO8: 110641 | AP8: 4394578 | AQ8: 0 | AR8: 833 | AS8: 318688 | AT8: 150330 | AU8: 4975070 | AV8: 8092690 | AW8: 647831 | AX8: 647831 | AY8: 5622901 | AZ8: 8740521 | BA8: -4509515 | BB8: -269337 | BC8: -375669 | BD8: -5154521 | BE8: 468380 | BF8: 3586000 | BH8: =BD8*(-1) -> 5154521 | BI8: =BH8/AV8 -> 0.63693543 | BJ8: =1-BI8 -> 0.36306457
A9: 16 | B9: パルプ・紙・木製品 | C9: 280327 | D9: 2115 | E9: 644298 | F9: 21679 | G9: 3414250 | H9: 382867 | I9: 264 | J9: 91895 | K9: 123023 | L9: 9056 | M9: 20432 | N9: 41221 | O9: 16777 | P9: 19077 | Q9: 35241 | R9: 81283 | S9: 115269 | T9: 31829 | U9: 76729 | V9: 851326 | W9: 2866100 | X9: 62608 | Y9: 12962 | Z9: 16720 | AA9: 763941 | AB9: 155051 | AC9: 34739 | AD9: 248724 | AE9: 696811 | AF9: 49782 | AG9: 289480 | AH9: 368696 | AI9: 80606 | AJ9: 256750 | AK9: 316923 | AL9: 632096 | AM9: 5691 | AN9: 13116638 | AO9: 72053 | AP9: 344623 | AQ9: 2075 | AR9: 14183 | AS9: 445161 | AT9: -65849 | AU9: 812246 | AV9: 13928884 | AW9: 591187 | AX9: 591187 | AY9: 1403433 | AZ9: 14520071 | BA9: -2347585 | BB9: -29324 | BC9: -189533 | BD9: -2566442 | BE9: -1163009 | BF9: 11953629 | BH9: =BD9*(-1) -> 2566442 | BI9: =BH9/AV9 -> 0.18425324 | BJ9: =1-BI9 -> 0.81574676
A10: 20 | B10: 化学製品 | C10: 689604 | D10: 12481 | E10: 394161 | F10: 392524 | G10: 417882 | H10: 9633368 | I10: 30966 | J10: 2714001 | K10: 206885 | L10: 100710 | M10: 74487 | N10: 102467 | O10: 45159 | P10: 66366 | Q10: 113719 | R10: 233312 | S10: 213580 | T10: 55140 | U10: 536979 | V10: 331903 | W10: 328891 | X10: 18489 | Y10: 39859 | Z10: 69331 | AA10: 848 | AB10: 807 | AC10: 2810 | AD10: 24020 | AE10: 64166 | AF10: 36040 | AG10: 345042 | AH10: 8789717 | AI10: 10480 | AJ10: 309107 | AK10: 338082 | AL10: 13665 | AM10: 34291 | AN10: 26791339 | AO10: 173182 | AP10: 2539696 | AQ10: 0 | AR10: 0 | AS10: 0 | AT10: -120697 | AU10: 2592181 | AV10: 29383520 | AW10: 6349500 | AX10: 6349500 | AY10: 8941681 | AZ10: 35733020 | BA10: -7104705 | BB10: -51735 | BC10: -569648 | BD10: -7726088 | BE10: 1215593 | BF10: 28006932 | BH10: =BD10*(-1) -> 7726088 | BI10: =BH10/AV10 -> 0.2629395 | BJ10: =1-BI10 -> 0.7370605
A11: 21 | B11: 石油・石炭製品 | C11: 159025 | D11: 18930 | E11: 154934 | F11: 21182 | G11: 45936 | H11: 2173173 | I11: 1038825 | J11: 26972 | K11: 134436 | L11: 611255 | M11: 23768 | N11: 34669 | O11: 13395 | P11: 18040 | Q11: 6266 | R11: 18335 | S11: 16857 | T11: 2420 | U11: 107538 | V11: 18921 | W11: 742599 | X11: 1225770 | Y11: 52127 | Z11: 56369 | AA11: 150053 | AB11: 15618 | AC11: 32317 | AD11: 5448108 | AE11: 39118 | AF11: 426913 | AG11: 151815 | AH11: 151734 | AI11: 15473 | AJ11: 154137 | AK11: 271152 | AL11: 0 | AM11: 90862 | AN11: 13669042 | AO11: 15891 | AP11: 5086789 | AQ11: 0 | AR11: 0 | AS11: 0 | AT11: -29593 | AU11: 5073087 | AV11: 18742129 | AW11: 1444185 | AX11: 1444185 | AY11: 6517272 | AZ11: 20186314 | BA11: -3060856 | BB11: -8142 | BC11: -282704 | BD11: -3351702 | BE11: 3165570 | BF11: 16834612 | BH11: =BD11*(-1) -> 3351702 | BI11: =BH11/AV11 -> 0.17883251 | BJ11: =1-BI11 -> 0.82116749
A12: 22 | B12: プラスチック・ゴム製品 | C12: 116914 | D12: 3979 | E12: 710598 | F12: 37007 | G12: 251987 | H12: 505250 | I12: 2266 | J12: 2975149 | K12: 46677 | L12: 18957 | M12: 47315 | N12: 56457 | O12: 135750 | P12: 340568 | Q12: 271408 | R12: 264945 | S12: 626922 | T12: 221842 | U12: 2027733 | V12: 559833 | W12: 821087 | X12: 0 | Y12: 171914 | Z12: 66507 | AA12: 485152 | AB12: 99178 | AC12: 46921 | AD12: 155062 | AE12: 199499 | AF12: 75513 | AG12: 165298 | AH12: 140992 | AI12: 34573 | AJ12: 673416 | AK12: 150577 | AL12: 69204 | AM12: 18437 | AN12: 12594887 | AO12: 25371 | AP12: 896993 | AQ12: 3896 | AR12: 0 | AS12: -680 | AT12: -32157 | AU12: 893423 | AV12: 13488310 | AW12: 2462678 | AX12: 2462678 | AY12: 3356101 | AZ12: 15950988 | BA12: -1752542 | BB12: -55823 | BC12: -144636 | BD12: -1953001 | BE12: 1403100 | BF12: 13997987 | BH12: =BD12*(-1) -> 1953001 | BI12: =BH12/AV12 -> 0.14479212 | BJ12: =1-BI12 -> 0.85520788
A13: 25 | B13: 窯業・土石製品 | C13: 27301 | D13: 428 | E13: 107411 | F13: 2266 | G13: 37495 | H13: 182802 | I13: 5188 | J13: 42147 | K13: 514882 | L13: 133764 | M13: 78595 | N13: 41479 | O13: 66309 | P13: 72702 | Q13: 126523 | R13: 467995 | S13: 143501 | T13: 14970 | U13: 311974 | V13: 45186 | W13: 3261761 | X13: 1064 | Y13: 20268 | Z13: 2376 | AA13: 19250 | AB13: 347 | AC13: 5705 | AD13: 1598 | AE13: 573 | AF13: 7070 | AG13: 79446 | AH13: 55430 | AI13: 2038 | AJ13: 46879 | AK13: 74098 | AL13: 7297 | AM13: 22072 | AN13: 6030190 | AO13: 11770 | AP13: 135468 | AQ13: 0 | AR13: 0 | AS13: 0 | AT13: -58234 | AU13: 89004 | AV13: 6119194 | AW13: 931599 | AX13: 931599 | AY13: 1020603 | AZ13: 7050793 | BA13: -681272 | BB13: -4222 | BC13: -54681 | BD13: -740175 | BE13: 280428 | BF13: 6310618 | BH13: =BD13*(-1) -> 740175 | BI13: =BH13/AV13 -> 0.12095956 | BJ13: =1-BI13 -> 0.87904044
A14: 26 | B14: 鉄鋼 | C14: 736 | D14: 2271 | E14: 0 | F14: 552 | G14: 115302 | H14: 937 | I14: -6 | J14: 28135 | K14: 49924 | L14: 14269268 | M14: 10401 | N14: 2650451 | O14: 1191982 | P14: 1532422 | Q14: 154124 | R14: 76334 | S14: 713682 | T14: 48754 | U14: 2928437 | V14: 32453 | W14: 1419668 | X14: 0 | Y14: 116 | Z14: 0 | AA14: 0 | AB14: 0 | AC14: 0 | AD14: 13584 | AE14: 0 | AF14: 1370 | AG14: 0 | AH14: 182 | AI14: 20 | AJ14: 8154 | AK14: 1418 | AL14: 34 | AM14: 23064 | AN14: 25273769 | AO14: 0 | AP14: -34590 | AQ14: 0 | AR14: -28047 | AS14: -168467 | AT14: -239348 | AU14: -470452 | AV14: 24803317 | AW14: 3584574 | AX14: 3584574 | AY14: 3114122 | AZ14: 28387891 | BA14: -965443 | BB14: -2306 | BC14: -77420 | BD14: -1045169 | BE14: 2068953 | BF14: 27342722 | BH14: =BD14*(-1) -> 1045169 | BI14: =BH14/AV14 -> 0.042138275 | BJ14: =1-BI14 -> 0.95786172
A15: 27 | B15: 非鉄金属 | C15: 0 | D15: 583 | E15: 55438 | F15: 29 | G15: 30256 | H15: 137635 | I15: 195 | J15: 33047 | K15: 61138 | L15: 231086 | M15: 3558866 | N15: 767413 | O15: 390861 | P15: 323587 | Q15: 253413 | R15: 618975 | S15: 1037756 | T15: 221796 | U15: 1319620 | V15: 123585 | W15: 547265 | X15: 6614 | Y15: 1162 | Z15: 18 | AA15: 1263 | AB15: 0 | AC15: 0 | AD15: 726 | AE15: 3490 | AF15: 8086 | AG15: 4004 | AH15: 83667 | AI15: 971 | AJ15: 25817 | AK15: 18452 | AL15: 1379 | AM15: 17865 | AN15: 9886058 | AO15: 1312 | AP15: 168957 | AQ15: 0 | AR15: 0 | AS15: 131392 | AT15: -121419 | AU15: 180242 | AV15: 10066300 | AW15: 2394061 | AX15: 2394061 | AY15: 2574303 | AZ15: 12460361 | BA15: -3375060 | BB15: -8021 | BC15: -270645 | BD15: -3653726 | BE15: -1079423 | BF15: 8806635 | BH15: =BD15*(-1) -> 3653726 | BI15: =BH15/AV15 -> 0.36296613 | BJ15: =1-BI15 -> 0.63703387
